BEGIN:VCALENDAR
VERSION:2.0
PRODID:-//ChamberMaster//Event Calendar 2.0//EN
METHOD:PUBLISH
X-PUBLISHED-TTL:P3D
REFRESH-INTERVAL:P3D
CALSCALE:GREGORIAN
BEGIN:VEVENT
DTSTART:20231030T214500Z
DTEND:20231030T224500Z
X-MICROSOFT-CDO-ALLDAYEVENT:FALSE
SUMMARY:glow buti
DESCRIPTION:we didn't think anything could make buti more fun  until we thought of bringing out the glow tats + paint. join us for a sweaty\, neon\, sparkle-filled class in studio as we let it all go. more on buti: have you read the book Where the Wild Moms Are? buti is their dance party. complete with cardio dance\, drumming on your mat\, sweat dripping down your face and a whole lot of movements that bring love into your body. we've done a lot of fitness varieties\, but there's nothing quite like Buti - and although you feel slightly insane while it's happening\, you're thinking twice as hard about how you never want it to stop. $5 for members\, $27 drop in. reserve a spot here!
X-ALT-DESC;FMTTYPE=text/html:we didn&rsquo\;t think anything could make buti more fun&hellip\; until we thought of bringing out the glow tats + paint. join us for a sweaty\, neon\, sparkle-filled class in studio as we let it all go. more on buti: have you read the book Where the Wild Moms Are? buti is their dance party. complete with cardio dance\, drumming on your mat\, sweat dripping down your face and a whole lot of movements that bring love into your body. we&#39\;ve done a lot of fitness varieties\, but there&#39\;s nothing quite like Buti - and although you feel slightly insane while it&#39\;s happening\, you&#39\;re thinking twice as hard about how you never want it to stop. $5 for members\, $27 drop in. reserve a spot here!
LOCATION:The Daily Sweat 65 Portland Rd. Kennebunk\, ME 04043
UID:e.1923.22483
SEQUENCE:3
DTSTAMP:20260422T004922Z
URL:https://chamber.gokennebunks.com/events/details/glow-buti-10-30-2023-22483
END:VEVENT

END:VCALENDAR
