BEGIN:VCALENDAR
VERSION:2.0
PRODID:-//ChamberMaster//Event Calendar 2.0//EN
METHOD:PUBLISH
X-PUBLISHED-TTL:P3D
REFRESH-INTERVAL:P3D
CALSCALE:GREGORIAN
BEGIN:VEVENT
DTSTART:20191203T170000Z
DTEND:20191203T180000Z
X-MICROSOFT-CDO-ALLDAYEVENT:FALSE
SUMMARY:Giving Tuesday: For The Dogs!
DESCRIPTION:We're on team dogs! Every year AWS has a contest - who can get the most donations - cats or dogs? This year we are siding with the dogs for a dog yoga class at AWS. This is a donation based class and will be held in the main building from 12-1p.
X-ALT-DESC;FMTTYPE=text/html:We&#39\;re on team dogs! Every year AWS has a contest - who can get the most donations - cats or dogs? This year we are siding with the dogs for a dog yoga class at AWS. This is a donation based class and will be held in the main building from 12-1p.
LOCATION:Animal Welfare Society 46 Holland Rd\, Kennebunk\, ME 04043
UID:e.1923.15524
SEQUENCE:3
DTSTAMP:20260424T114411Z
URL:https://chamber.gokennebunks.com/events/details/giving-tuesday-for-the-dogs-15524
END:VEVENT

END:VCALENDAR
