BEGIN:VCALENDAR
VERSION:2.0
PRODID:-//ChamberMaster//Event Calendar 2.0//EN
METHOD:PUBLISH
X-PUBLISHED-TTL:P3D
REFRESH-INTERVAL:P3D
CALSCALE:GREGORIAN
BEGIN:VEVENT
DTSTART:20231102T230000Z
DTEND:20231103T020000Z
X-MICROSOFT-CDO-ALLDAYEVENT:FALSE
SUMMARY:Gina and the Red Eye Flight Crew
DESCRIPTION:Doors @ 7pm | Show @ 8pm GA Standing: $20 Advance | $25 Door All ages Comprised entirely of working and touring professionals\, The Red Eye Flight Crew never fails to bring a room to its feet. Their locally famous Monday Night funk residency in Portland Maine will draw anywhere between 200 and 300 partygoers on any given evening. Powerhouse lead vocalist Gina Alibrio tackles the band's difficult and diverse catalogue like a pro\, and is backed by some of the best musicians in Maine.
X-ALT-DESC;FMTTYPE=text/html:Doors @ 7pm | Show @ 8pm GA Standing: $20 Advance | $25 Door All ages Comprised entirely of working and touring professionals\, The Red Eye Flight Crew never fails to bring a room to its feet. Their locally famous Monday Night funk residency in Portland Maine will draw anywhere between 200 and 300 partygoers on any given evening. Powerhouse lead vocalist Gina Alibrio tackles the band&rsquo\;s difficult and diverse catalogue like a pro\, and is backed by some of the best musicians in Maine.
LOCATION:Vinegar Hill Music Theatre 53 Old Post Rd. Arundel\, ME 04046
UID:e.1923.23084
SEQUENCE:3
DTSTAMP:20260421T232556Z
URL:https://chamber.gokennebunks.com/events/details/gina-and-the-red-eye-flight-crew-23084
END:VEVENT

END:VCALENDAR
