BEGIN:VCALENDAR
VERSION:2.0
PRODID:-//ChamberMaster//Event Calendar 2.0//EN
METHOD:PUBLISH
X-PUBLISHED-TTL:P3D
REFRESH-INTERVAL:P3D
CALSCALE:GREGORIAN
BEGIN:VEVENT
DTSTART:20240629T130000Z
DTEND:20240630T200000Z
X-MICROSOFT-CDO-ALLDAYEVENT:FALSE
SUMMARY:Gel Printing Basics and Botanicals with Berri Kramer at Arundel Farm Gallery
DESCRIPTION:In this workshop we will explore a variety of Gel Printing techniques that you can use in collage\, painting\, book arts and card making.  Using stencils and masks\, found and home-made texture tools and local botanicals we will print on paper and fabric.  Students will create several small collages in class.  A $40.00 materials fee will provide all that is needed for the class projects.\n\n\n\nBerri Kramer spent 25 years designing for Better Homes and Gardens magazine and then founded Heartwood College of Art of the Kennebunks where she was President and taught Color\, Design and Exploration of Crafts for over 25 years.  Now\, we are honored to have her teaching at Arundel Farm Gallery where she shares her great knowledge in many art mediums including collage\, encaustic\, cold was\, and printmaking.
X-ALT-DESC;FMTTYPE=text/html:In this workshop we will explore a variety of Gel Printing techniques that you can use in collage\, painting\, book arts and card making.&nbsp\; Using stencils and masks\, found and home-made texture tools and local botanicals we will print on paper and fabric.&nbsp\; Students will create several small collages in class.&nbsp\; A $40.00 materials fee will provide all that is needed for the class projects.<br />\n<br />\nBerri Kramer spent 25 years designing for Better Homes and Gardens magazine and then founded Heartwood College of Art of the Kennebunks where she was President and taught Color\, Design and Exploration of Crafts for over 25 years.&nbsp\; Now\, we are honored to have her teaching at Arundel Farm Gallery where she shares her great knowledge in many art mediums including collage\, encaustic\, cold was\, and printmaking.&nbsp\;
LOCATION:Arundel Farm Gallery\, 76 Arundel Road\, Arundel\, Maine 04046
UID:e.1923.25260
SEQUENCE:3
DTSTAMP:20260421T140406Z
URL:https://chamber.gokennebunks.com/events/details/gel-printing-basics-and-botanicals-with-berri-kramer-at-arundel-farm-gallery-25260
END:VEVENT

END:VCALENDAR
