BEGIN:VCALENDAR
VERSION:2.0
PRODID:-//ChamberMaster//Event Calendar 2.0//EN
METHOD:PUBLISH
X-PUBLISHED-TTL:P3D
REFRESH-INTERVAL:P3D
CALSCALE:GREGORIAN
BEGIN:VEVENT
DTSTART:20250628T180000Z
DTEND:20250628T210000Z
X-MICROSOFT-CDO-ALLDAYEVENT:FALSE
SUMMARY:GARDEN PARTY CELEBRATING MARY-LOU BOUCOUVALAS RETIREMENT
DESCRIPTION:Public Invited to a Garden Party to Celebrate the Retirement of Mary-Lou Boucouvalas. The public is invited to a special retirement event to honor\, celebrate\, and thank Library Director Mary-Lou Boucouvalas for her 26 years of dedication and service to our community\, first as children's librarian and then as library director\, at Louis T. Graves Memorial Public Library. The community-wide Garden Party will run open house style from 2-5 PM at Graves Library on Saturday\, June 28\, and feature time to chat\, mingle\, and say farewell. Light refreshments will be served. Parking for this event is available at the Village Fire Station (North Street). The Louis T. Graves Memorial Public Library is located at 18 Maine Street\, Kennebunkport. For further information\, please call 207-967-2778 or visit our website at www.graveslibrary.org.
X-ALT-DESC;FMTTYPE=text/html:<strong><span style="font-family:arial\,sans-serif"><span style="font-size:11.0pt">Public Invited to a Garden Party to Celebrate the Retirement of Mary-Lou Boucouvalas</span></span></strong><span style="font-family:arial\,sans-serif"><span style="font-size:11.0pt">. The public is invited to a special retirement event to honor\, celebrate\, and thank Library Director Mary-Lou Boucouvalas for her 26 years of dedication and service to our community\, first as children&rsquo\;s librarian and then as library director\, at Louis T. Graves Memorial Public Library. The community-wide Garden Party will run open house style from 2-5 PM at Graves Library on Saturday\, June 28\, and feature time to chat\, mingle\, and say farewell. Light refreshments will be served. Parking for this event is available at the Village Fire Station (North Street). The Louis T. Graves Memorial Public Library is located at 18 Maine Street\, Kennebunkport. For further information\, please call 207-967-2778 or visit our website at </span></span><span style="font-family:calibri\,sans-serif"><span style="font-size:11.0pt"><a href="http://www.graveslibrary.org/"><span style="font-family:arial\,sans-serif">www.graveslibrary.org</span></a></span></span><span style="font-family:arial\,sans-serif"><span style="font-size:11.0pt">.&nbsp\;</span></span>
LOCATION:The Louis T. Graves Memorial Public Library is located at 18 Maine Street\, Kennebunkport. For further information\, please call 207-967-2778 or visit our website at www.graveslibrary.org.
UID:e.1923.34947
SEQUENCE:3
DTSTAMP:20260421T062906Z
URL:https://chamber.gokennebunks.com/events/details/garden-party-celebrating-mary-lou-boucouvalas-retirement-34947
END:VEVENT

END:VCALENDAR
