BEGIN:VCALENDAR
VERSION:2.0
PRODID:-//ChamberMaster//Event Calendar 2.0//EN
METHOD:PUBLISH
X-PUBLISHED-TTL:P3D
REFRESH-INTERVAL:P3D
CALSCALE:GREGORIAN
BEGIN:VEVENT
DTSTART:20230805T150000Z
DTEND:20230805T180000Z
X-MICROSOFT-CDO-ALLDAYEVENT:FALSE
SUMMARY:Garden Art - Drawing & Watercolor
DESCRIPTION:In the spirit of the Brick Store Museum founder Edith Barry\, let nature inspire your creativity!  Draw plant and flower forms from the Museum garden.  Then embellish the forms with watercolors.  Guided by artist & instructor: Suzanne Demeo.  This is an adult workshop from 11:00 am   2:00 pm.
X-ALT-DESC;FMTTYPE=text/html:<span style="color:rgb(20\, 24\, 39)\; font-family:helvetica neue\,helvetica\,-apple-system\,blinkmacsystemfont\,roboto\,arial\,sans-serif\; font-size:18px">In the spirit of the Brick Store Museum founder Edith Barry\, let nature inspire your creativity!&nbsp\; Draw plant and flower forms from the Museum garden.&nbsp\; Then embellish the forms with watercolors.&nbsp\; Guided by artist &amp\; instructor: Suzanne Demeo.&nbsp\; This is an adult workshop from 11:00 am &ndash\; 2:00 pm.</span>
LOCATION:Brick Store Museum\, 117 Main Street\, Kennebunk\, Maine 04043
UID:e.1923.21936
SEQUENCE:3
DTSTAMP:20260422T033845Z
URL:https://chamber.gokennebunks.com/events/details/garden-art-drawing-watercolor-21936
END:VEVENT

END:VCALENDAR
