BEGIN:VCALENDAR
VERSION:2.0
PRODID:-//ChamberMaster//Event Calendar 2.0//EN
METHOD:PUBLISH
X-PUBLISHED-TTL:P3D
REFRESH-INTERVAL:P3D
CALSCALE:GREGORIAN
BEGIN:VEVENT
DTSTART:20250608T160000Z
DTEND:20250608T190000Z
X-MICROSOFT-CDO-ALLDAYEVENT:FALSE
SUMMARY:GANNY'S GARDEN STORY TIME
DESCRIPTION:Barbara Bush's Community Birthday Celebration. Join us at Ganny's Garden at the Trust River Green in Kennebunkport on Sunday\, June 8\, for a Family Story time in honor of Barbara Bush's 100th birthday. We will read stories and have fun with different activities\, from crafts to photos taken with the Little Blue Truck. Free materials are available for families to take home to continue reading\, learning\, and playing together. Story times: "Little Blue Truck" at 12:30\, "The Day You Begin" at 1:30. This program is a collaboration with the Barbara Bush Foundation for Family Literacy. This event is part of Kennebunkport's community birthday celebration of Barbara Bush. Ganny's Garden is located on the corner of Greene Street and Ocean Avenue\, Kennebunkport. For further information\, please visit our website at www.graveslibrary.org.
X-ALT-DESC;FMTTYPE=text/html:<strong><span style="font-family:arial\,sans-serif">Barbara Bush&#39\;s Community Birthday Celebration</span></strong><span style="font-family:arial\,sans-serif">. Join us at Ganny&#39\;s Garden at the Trust River Green in Kennebunkport on Sunday\, June 8\, for a Family Story time in honor of Barbara Bush&#39\;s 100th birthday. We will read stories and have fun with different activities\, from crafts to photos taken with the Little Blue Truck. Free materials are available for families to take home to continue reading\, learning\, and playing together. Story times: &ldquo\;Little Blue Truck&rdquo\; at 12:30\, &ldquo\;The Day You Begin&rdquo\; at 1:30. This program is a collaboration with the Barbara Bush Foundation for Family Literacy. This event is part of Kennebunkport&#39\;s community birthday celebration of Barbara Bush. Ganny&rsquo\;s Garden is located on the corner of Greene Street and Ocean Avenue\, Kennebunkport. For further information\, please visit our website at </span><a href="http://www.graveslibrary.org/"><span style="font-family:arial\,sans-serif">www.graveslibrary.org</span></a><span style="font-family:arial\,sans-serif">.</span>
LOCATION:Ocean Avenue & Greene Street\, Kennebunkport
UID:e.1923.34944
SEQUENCE:3
DTSTAMP:20260421T062345Z
URL:https://chamber.gokennebunks.com/events/details/ganny-s-garden-story-time-34944
END:VEVENT

END:VCALENDAR
