BEGIN:VCALENDAR
VERSION:2.0
PRODID:-//ChamberMaster//Event Calendar 2.0//EN
METHOD:PUBLISH
X-PUBLISHED-TTL:P3D
REFRESH-INTERVAL:P3D
CALSCALE:GREGORIAN
BEGIN:VEVENT
DTSTART:20250213T210000Z
DTEND:20250213T230000Z
X-MICROSOFT-CDO-ALLDAYEVENT:FALSE
SUMMARY:Galentine's Watercolor & Wine Paint Night at Earth
DESCRIPTION:Thursday\, February 13\, 2025   4 - 6pm EST\n\n \nGather the gals for a good time with painting and wine! Take a moment to create your own watercolor masterpiece amongst your closest friends\, with a talented local artist\, Diane. You'll have plenty of inspiration to choose from at Earth at Hidden Pond as Diane guides you through basic watercolor painting techniques\, so you can create your own\, one-of-a kind masterpiece. This special Galentine's day watercolor celebration will include wine and light snacks. $75 per person\n\n\n\nPURCHASE TICKETS: https://www.eventbrite.com/e/galentines-watercolor-and-wine-at-earth-tickets-1119910806369?aff=oddtdtcreator\n\nPart of Earth at Hidden Pond's programming for Paint the Town Red in Kennebunkport!
X-ALT-DESC;FMTTYPE=text/html:<span style="color:rgb(30\, 10\, 60)\; font-family:neue plak\,-apple-system\,blinkmacsystemfont\,roboto\,helvetica neue\,helvetica\,tahoma\,arial\,sans-serif\; font-size:14px">Thursday\, February 13\, 2025 &middot\; 4 - 6pm EST</span><br />\n&nbsp\;\n<p>Gather the gals for a good time with painting and wine! Take a moment to create your own watercolor masterpiece amongst your closest friends\, with a talented local artist\, Diane. You&#39\;ll have plenty of inspiration to choose from at Earth at Hidden Pond as Diane guides you through basic watercolor painting techniques\, so you can create your own\, one-of-a kind masterpiece. This special Galentine&#39\;s day watercolor celebration will include wine and light snacks. $75 per person<br />\n<br />\n<a href="https://www.eventbrite.com/e/galentines-watercolor-and-wine-at-earth-tickets-1119910806369?aff=oddtdtcreator"><strong>PURCHASE TICKETS:&nbsp\;https://www.eventbrite.com/e/galentines-watercolor-and-wine-at-earth-tickets-1119910806369?aff=oddtdtcreator</strong></a></p>\n\n<p>Part of Earth at Hidden Pond&#39\;s programming for&nbsp\;<a href="https://www.kennebunkportresortcollection.com/explore/paint-the-town-red" rel="nofollow noopener noreferrer" style="background-color: transparent\; color: var(--eds-control\,#3659e3)\; box-sizing: border-box\; padding-top: 0px\;" target="_blank" title="https://www.kennebunkportresortcollection.com/explore/paint-the-town-red"><strong>Paint the Town Red</strong></a>&nbsp\;in Kennebunkport!</p>\n
LOCATION:Earth at Hidden Pond 354 Goose Rocks Road Kennebunkport Maine\, 04046
UID:e.1923.31497
SEQUENCE:3
DTSTAMP:20260421T003707Z
URL:https://chamber.gokennebunks.com/events/details/galentine-s-watercolor-wine-paint-night-at-earth-31497
END:VEVENT

END:VCALENDAR
