BEGIN:VCALENDAR
VERSION:2.0
PRODID:-//ChamberMaster//Event Calendar 2.0//EN
METHOD:PUBLISH
X-PUBLISHED-TTL:P3D
REFRESH-INTERVAL:P3D
CALSCALE:GREGORIAN
BEGIN:VEVENT
DTSTART:20240215T210000Z
DTEND:20240215T230000Z
X-MICROSOFT-CDO-ALLDAYEVENT:FALSE
SUMMARY:Galentine's Watercolor and Wine at Earth
DESCRIPTION:Gather the gals for a good time with painting and wine! Take a moment to create your own watercolor masterpiece amongst your closest friends\, with a talented local artist\, Diane. You'll have plenty of inspiration to choose from at Earth at Hidden Pond as Diane guides you through basic watercolor painting techniques\, so you can create your own\, one-of-a kind masterpiece. This special Galentine's day watercolor celebration will include wine and light snacks.
X-ALT-DESC;FMTTYPE=text/html:Gather the gals for a good time with painting and wine! Take a moment to create your own watercolor masterpiece amongst your closest friends\, with a talented local artist\, Diane. You&#39\;ll have plenty of inspiration to choose from at Earth at Hidden Pond as Diane guides you through basic watercolor painting techniques\, so you can create your own\, one-of-a kind masterpiece. This special Galentine&#39\;s day watercolor celebration will include wine and light snacks.
LOCATION:Earth at Hidden Pond - 354 Goose Rocks Road Kennebunkport\, Maine 04046
UID:e.1923.23340
SEQUENCE:3
DTSTAMP:20260421T205000Z
URL:https://chamber.gokennebunks.com/events/details/galentine-s-watercolor-and-wine-at-earth-23340
END:VEVENT

END:VCALENDAR
