BEGIN:VCALENDAR
VERSION:2.0
PRODID:-//ChamberMaster//Event Calendar 2.0//EN
METHOD:PUBLISH
X-PUBLISHED-TTL:P3D
REFRESH-INTERVAL:P3D
CALSCALE:GREGORIAN
BEGIN:VEVENT
DTSTART:20200213T223000Z
DTEND:20200214T011500Z
X-MICROSOFT-CDO-ALLDAYEVENT:FALSE
SUMMARY:galentine's night
DESCRIPTION:grab your gals (or your guy pals\, fellas) + celebrate friendship with us. join us for wine\, snacks + a sweaty good time. guests are free for all one-year tribe members. all "singles" (single items) will be 40% off.
X-ALT-DESC;FMTTYPE=text/html:grab your gals (or your guy pals\, fellas) + celebrate friendship with us. join us for wine\, snacks + a sweaty good time. guests are free for all one-year tribe members. all &quot\;singles&quot\; (single items) will be 40% off.
LOCATION:The Daily Sweat 65 Portland RD Building A\, Unit D\, Kennebunk\, ME 04043
UID:e.1923.15613
SEQUENCE:3
DTSTAMP:20260424T122501Z
URL:https://chamber.gokennebunks.com/events/details/galentine-s-night-15613
END:VEVENT

END:VCALENDAR
