BEGIN:VCALENDAR
VERSION:2.0
PRODID:-//ChamberMaster//Event Calendar 2.0//EN
METHOD:PUBLISH
X-PUBLISHED-TTL:P3D
REFRESH-INTERVAL:P3D
CALSCALE:GREGORIAN
BEGIN:VEVENT
DTSTART:20190711T160000Z
DTEND:20190711T160000Z
X-MICROSOFT-CDO-ALLDAYEVENT:FALSE
SUMMARY:Gala
DESCRIPTION:Benefit for Arundel Historical Society- Silent Auction\, Live Auction\, drinks\, hors d'ouvres\, music
X-ALT-DESC;FMTTYPE=text/html:Benefit for Arundel Historical Society- Silent Auction\, Live Auction\, drinks\, hors d&#39\;ouvres\, music
LOCATION:Bentley's Auto Museum Old Post Road\, Arundel
UID:e.1923.13075
SEQUENCE:3
DTSTAMP:20260424T181955Z
URL:https://chamber.gokennebunks.com/events/details/gala-13075
END:VEVENT

END:VCALENDAR
