BEGIN:VCALENDAR
VERSION:2.0
PRODID:-//ChamberMaster//Event Calendar 2.0//EN
METHOD:PUBLISH
X-PUBLISHED-TTL:P3D
REFRESH-INTERVAL:P3D
CALSCALE:GREGORIAN
BEGIN:VEVENT
DTSTART:20240119T150000Z
DTEND:20240119T160000Z
X-MICROSOFT-CDO-ALLDAYEVENT:FALSE
SUMMARY:FURRY TALES
DESCRIPTION:Friday\, January 19 at 10 AM. Furry Tales Story Time. We are so excited to partner with the Animal Welfare Society of Kennebunk for a very special story time. Preschoolers and their families explore the exciting world of animals with stories\, playtime\, crafts\, songs\, movement\, and plenty of animal time. Each visit is a new adventure! The Louis T. Graves Memorial Public Library is located at 18 Maine Street\, Kennebunkport. For further information\, please call 967-2778 or visit our website at www.graveslibrary.org.
X-ALT-DESC;FMTTYPE=text/html:<span style="font-family:arial\,sans-serif">Friday\, January 19 at 10 AM. <strong>Furry Tales Story Time</strong>. We are so excited to partner with the Animal Welfare Society of Kennebunk for a very special story time. Preschoolers and their families explore the exciting world of animals with stories\, playtime\, crafts\, songs\, movement\, and plenty of animal time. Each visit is a new adventure! The Louis T. Graves Memorial Public Library is located at 18 Maine Street\, Kennebunkport. For further information\, please call 967-2778 or visit our website at </span><a href="http://www.graveslibrary.org/"><span style="color:windowtext"><span style="font-family:arial\,sans-serif">www.graveslibrary.org</span></span></a><span style="font-family:arial\,sans-serif">.</span>
LOCATION:The Louis T. Graves Memorial Public Library is located at 18 Maine Street\, Kennebunkport. For further information\, please call 967-2778 or visit our website at www.graveslibrary.org.
UID:e.1923.23336
SEQUENCE:3
DTSTAMP:20260421T204612Z
URL:https://chamber.gokennebunks.com/events/details/furry-tales-01-19-2024-23336
END:VEVENT

END:VCALENDAR
