BEGIN:VCALENDAR
VERSION:2.0
PRODID:-//ChamberMaster//Event Calendar 2.0//EN
METHOD:PUBLISH
X-PUBLISHED-TTL:P3D
REFRESH-INTERVAL:P3D
CALSCALE:GREGORIAN
BEGIN:VEVENT
DTSTART:20180610T160000Z
DTEND:20180610T210000Z
X-MICROSOFT-CDO-ALLDAYEVENT:FALSE
SUMMARY:Funky Craft Fest
DESCRIPTION:Event will be held on June 10\, 2018 from 12-5. The event will feature some of the best local artists/crafters and local businesses for you to explore. There will be delicious food\, craft beers\, live music and as always kids and dogs are welcome! Come relax\, sip your favorite beer\, taste some delicious food and explore what local Maine has to offer on the farm and brewery\, in Lyman Maine.
X-ALT-DESC;FMTTYPE=text/html:Event will be held on June 10\, 2018 from 12-5. The event will feature some of the best local artists/crafters and local businesses for you to explore. There will be delicious food\, craft beers\, live music and as always kids and dogs are welcome! Come relax\, sip your favorite beer\, taste some delicious food and explore what local Maine has to offer on the farm and brewery\, in Lyman Maine.
LOCATION:Funky Bow Brewery
UID:e.1923.9809
SEQUENCE:3
DTSTAMP:20260425T143124Z
URL:https://chamber.gokennebunks.com/events/details/funky-craft-fest-9809
END:VEVENT

END:VCALENDAR
