BEGIN:VCALENDAR
VERSION:2.0
PRODID:-//ChamberMaster//Event Calendar 2.0//EN
METHOD:PUBLISH
X-PUBLISHED-TTL:P3D
REFRESH-INTERVAL:P3D
CALSCALE:GREGORIAN
BEGIN:VEVENT
DTSTART:20250128T223000Z
DTEND:20250128T233000Z
X-MICROSOFT-CDO-ALLDAYEVENT:FALSE
SUMMARY:FUNDAMENTALS OF ESTATE PLANNING
DESCRIPTION:Tuesday\, January 28 at 5:30 PM. Fundamentals of Estate Planning. Mark your calendars for Tuesday\, January 28th at 5:30 p.m. for an informative session on the fundamentals of estate planning. This workshop is perfect for anyone seeking the peace of mind that comes with an estate plan but unsure where to begin. Attorney Erin Sherman\, founder of Treehouse Legal in Kennebunk\, will walk you through the essential components of an estate plan\, such as what documents are typically included\, how to address the needs of both minor and adult children and the key differences between a Will and a Trust. By the end of the session\, you'll have a clearer understanding of which estate planning tools are best suited to your family's needs\, as well as resources to help you take the next steps. A Q&A portion will be available at the end of the session to address your specific questions. Erin Sherman is the founder of Treehouse Legal\, based in Kennebunk\, Maine\, where she focuses on Estate Planning and Business Planning. With eight years of experience\, Erin holds a Bachelor of Science in Sustainable Design and a Juris Doctor from the University of Wisconsin-Madison. A resident of Kennebunk\, Erin launched Treehouse Legal in 2022 with a mission to make legal assistance more accessible. The Louis T. Graves Memorial Public Library is located at 18 Maine Street\, Kennebunkport. For further information\, please call 967-2778 or visit our website at www.graveslibrary.org.
X-ALT-DESC;FMTTYPE=text/html:<span style="font-family:arial\,sans-serif">Tuesday\, January 28 at 5:30 PM. <strong>Fundamentals of Estate Planning</strong>. Mark your calendars for Tuesday\, January 28th at 5:30 p.m. for an informative session on the fundamentals of estate planning. This workshop is perfect for anyone seeking the peace of mind that comes with an estate plan but unsure where to begin. Attorney Erin Sherman\, founder of Treehouse Legal in Kennebunk\, will walk you through the essential components of an estate plan\, such as what documents are typically included\, how to address the needs of both minor and adult children and the key differences between a Will and a Trust. By the end of the session\, you&#39\;ll have a clearer understanding of which estate planning tools are best suited to your family&#39\;s needs\, as well as resources to help you take the next steps. A Q&amp\;A portion will be available at the end of the session to address your specific questions. Erin Sherman is the founder of Treehouse Legal\, based in Kennebunk\, Maine\, where she focuses on Estate Planning and Business Planning. With eight years of experience\, Erin holds a Bachelor of Science in Sustainable Design and a Juris Doctor from the University of Wisconsin-Madison. A resident of Kennebunk\, Erin launched Treehouse Legal in 2022 with a mission to make legal assistance more accessible. The Louis T. Graves Memorial Public Library is located at 18 Maine Street\, Kennebunkport. For further information\, please call 967-2778 or visit our website at www.graveslibrary.org.</span>
LOCATION:The Louis T. Graves Memorial Public Library is located at 18 Maine Street\, Kennebunkport. For further information\, please call 967-2778 or visit our website at www.graveslibrary.org.
UID:e.1923.31457
SEQUENCE:3
DTSTAMP:20260421T003604Z
URL:https://chamber.gokennebunks.com/events/details/fundamentals-of-estate-planning-31457
END:VEVENT

END:VCALENDAR
