BEGIN:VCALENDAR
VERSION:2.0
PRODID:-//ChamberMaster//Event Calendar 2.0//EN
METHOD:PUBLISH
X-PUBLISHED-TTL:P3D
REFRESH-INTERVAL:P3D
CALSCALE:GREGORIAN
BEGIN:VEVENT
DTSTART:20250313T220000Z
DTEND:20250314T010000Z
X-MICROSOFT-CDO-ALLDAYEVENT:FALSE
SUMMARY:full moon hike + yoga
DESCRIPTION:Join us for a rejuvenating evening that blends nature\, movement\, and relaxation in the heart of the great outdoors. We begin with a guided hike through scenic trails\, where the fresh air\, stunning views\, and peaceful surroundings of the Kennebunkport Conservation Trust will help you unwind and reconnect with nature. After the hike\, we'll flow into a restorative yoga session designed to release tension\, enhance flexibility\, and restore balance perfect for all levels of experience.\n\n\n\nAfter the yoga practice\, settle in by a cozy campfire for Meet on the Street and refreshing drinks Roaming Speakeasy creating the perfect atmosphere for conversation and relaxation under the stars. \n\n\n\nThis is more than just a workshop it's an opportunity to nourish your body\, mind\, and soul. Whether you're looking to deepen your yoga practice\, enjoy a mindful hike\, or simply escape the hustle and bustle of daily life\, this workshop promises to be an experience you won't soon forget.\n\n\n\nWhat's included:\n\n- Guided hike through the conservations trails\n\n- Restorative yoga session\n\n- A campfire gathering with curated cocktails + a taco / taco salad bar\n\n- Friends & family discounts to both local businesses\n\n- Good company and peaceful vibes\n\n\n\nCome for the adventure\, stay for the serenity. See you on the trail! All attendees will receive a 15% off coupon to use during the month of March for both The Daily Sweat and Kennebunk Outfitters. \n\n\n\nSign up here: https://clients.mindbodyonline.com/classic/ws?studioid=904135&stype=43&catid=100000&prodGroupId=107041
X-ALT-DESC;FMTTYPE=text/html:Join us for a rejuvenating evening that blends nature\, movement\, and relaxation in the heart of the great outdoors. We begin with a guided hike through scenic trails\, where the fresh air\, stunning views\, and peaceful surroundings of the Kennebunkport Conservation Trust will help you unwind and reconnect with nature. After the hike\, we&rsquo\;ll flow into a restorative yoga session designed to release tension\, enhance flexibility\, and restore balance&mdash\;perfect for all levels of experience.<br />\n<br />\nAfter the yoga practice\, settle in by a cozy campfire for Meet on the Street and refreshing drinks Roaming Speakeasy creating the perfect atmosphere for conversation and relaxation under the stars.&nbsp\;<br />\n<br />\nThis is more than just a workshop&mdash\;it&#39\;s an opportunity to nourish your body\, mind\, and soul. Whether you&#39\;re looking to deepen your yoga practice\, enjoy a mindful hike\, or simply escape the hustle and bustle of daily life\, this workshop promises to be an experience you won&rsquo\;t soon forget.<br />\n<br />\nWhat&rsquo\;s included:<br />\n- Guided hike through the conservations trails<br />\n- Restorative yoga session<br />\n- A campfire gathering with curated cocktails + a taco / taco salad bar<br />\n- Friends &amp\; family discounts to both local businesses<br />\n- Good company and peaceful vibes<br />\n<br />\nCome for the adventure\, stay for the serenity. See you on the trail! All attendees will receive a 15% off coupon to use during the month of March for both The Daily Sweat and Kennebunk Outfitters.&nbsp\;<br />\n<br />\nSign up here: https://clients.mindbodyonline.com/classic/ws?studioid=904135&amp\;stype=43&amp\;catid=100000&amp\;prodGroupId=107041
LOCATION:The Kennebunk Conservation Trust
UID:e.1923.33244
SEQUENCE:3
DTSTAMP:20260421T082430Z
URL:https://chamber.gokennebunks.com/events/details/full-moon-hike-yoga-33244
END:VEVENT

END:VCALENDAR
