BEGIN:VCALENDAR
VERSION:2.0
PRODID:-//ChamberMaster//Event Calendar 2.0//EN
METHOD:PUBLISH
X-PUBLISHED-TTL:P3D
REFRESH-INTERVAL:P3D
CALSCALE:GREGORIAN
BEGIN:VEVENT
DTSTART:20250202T010000Z
DTEND:20250202T040000Z
X-MICROSOFT-CDO-ALLDAYEVENT:FALSE
SUMMARY:FROSTED! A Freezing Good Time Party
DESCRIPTION:Join us for the kick-off event of Kennebunkport's Paint the Town Red month: The Tenth Annual Frosted! on Saturday\, February 1st at 8pm\n\nFROSTED! a freezing good time\n\nIce sculptures\, signature cocktails\, dance music with DJ Chad\, a dessert bar\, and the GIFFY photo booth. Tickets include one drink. Cash bar available for additional beer\, wine\, and cocktails.\n\nEvent is 21+.\nPURCHASE TICKETS: https://www.eventbrite.com/e/frosted-a-freezing-good-time-tickets-1111914649649?aff=oddtdtcreator
X-ALT-DESC;FMTTYPE=text/html:<p>Join us for the kick-off event of Kennebunkport&#39\;s Paint the Town Red month: The Tenth Annual Frosted! on Saturday\, February 1st at 8pm</p>\n\n<p><strong>FROSTED! a freezing good time</strong></p>\n\n<p>Ice sculptures\, signature cocktails\, dance music with DJ Chad\, a dessert bar\, and the GIFFY photo booth. Tickets include one drink. Cash bar available for additional beer\, wine\, and cocktails.</p>\n\n<p>Event is 21+.</p>\n<a href="https://www.eventbrite.com/e/frosted-a-freezing-good-time-tickets-1111914649649?aff=oddtdtcreator"><strong><span style="color:#FF0000"><span style="font-family:proxima-nova\,sans-serif">PURCHASE TICKETS:&nbsp\;</span></span></strong>https://www.eventbrite.com/e/frosted-a-freezing-good-time-tickets-1111914649649?aff=oddtdtcreator</a><br />\n&nbsp\;
LOCATION:The Boathouse Waterfront Hotel 21 Ocean Avenue | Kennebunkport\, Maine 04046
UID:e.1923.31472
SEQUENCE:3
DTSTAMP:20260420T230226Z
URL:https://chamber.gokennebunks.com/events/details/frosted-a-freezing-good-time-party-31472
END:VEVENT

END:VCALENDAR
