BEGIN:VCALENDAR
VERSION:2.0
PRODID:-//ChamberMaster//Event Calendar 2.0//EN
METHOD:PUBLISH
X-PUBLISHED-TTL:P3D
REFRESH-INTERVAL:P3D
CALSCALE:GREGORIAN
BEGIN:VEVENT
DTSTART:20190203T000000Z
DTEND:20190203T030000Z
X-MICROSOFT-CDO-ALLDAYEVENT:FALSE
SUMMARY:FROSTED! a freezing good time Ice Bar
DESCRIPTION:Join us for the kick-off event of Kennebunkport's Paint the Town Red month: The Fifth Annual Ice Bar!  Custom ice bar with luge\, light snacks\, s'mores & hot chocolate bars\, and entertainment. Ticket includes one signature drink. Cash bar available as well.\n\nTickets are $55/pp online or $70/pp at the door. Buy now for a $10 early-bird discount (discount expires December 31\, 2018).  Don't get left in the cold.\nPURCHASE TICKETS: https://www.eventbrite.com/e/frosted-a-freezing-good-time-tickets-52488566716
X-ALT-DESC;FMTTYPE=text/html:<p>Join us for the kick-off event of Kennebunkport&rsquo\;s Paint the Town Red month: The Fifth Annual Ice Bar!&nbsp\; Custom ice bar with luge\, light snacks\, s&rsquo\;mores &amp\; hot chocolate bars\, and entertainment. Ticket includes one signature drink. Cash bar available as well.</p>\n\n<p>Tickets are $55/pp online or $70/pp at the door. Buy now for a $10 early-bird discount (discount expires December 31\, 2018).&nbsp\; Don&rsquo\;t get left in the cold.</p>\n<strong><span style="color:#FF0000"><span style="font-family:proxima-nova\,sans-serif">PURCHASE TICKETS:&nbsp\;</span><a href="https://www.eventbrite.com/e/frosted-a-freezing-good-time-tickets-52488566716">https://www.eventbrite.com/e/frosted-a-freezing-good-time-tickets-52488566716</a></span></strong><br />\n&nbsp\;
LOCATION:The Boathouse Waterfront Hotel 21 Ocean Avenue | Kennebunkport\, Maine 04046
UID:e.1923.2787
SEQUENCE:3
DTSTAMP:20260425T013106Z
URL:https://chamber.gokennebunks.com/events/details/frosted-a-freezing-good-time-ice-bar-01-30-2016-2787
END:VEVENT

END:VCALENDAR
