BEGIN:VCALENDAR
VERSION:2.0
PRODID:-//ChamberMaster//Event Calendar 2.0//EN
METHOD:PUBLISH
X-PUBLISHED-TTL:P3D
REFRESH-INTERVAL:P3D
CALSCALE:GREGORIAN
BEGIN:VEVENT
DTSTART:20241018T210000Z
DTEND:20241018T230000Z
X-MICROSOFT-CDO-ALLDAYEVENT:FALSE
SUMMARY:"Friday Night Bites" Community Food Truck Event @ Thornton Academy
DESCRIPTION:"Friday Night Bites" is a community food truck event to kickoff Thornton Academy's Homecoming celebrations and a weekend filled with fall festivities throughout the Saco and Biddeford region! Come join us on campus from 5:00 to 7:00 pm where a variety of local vendors will be selling their yummiest bites while you and your family enjoy entertainment from the TA Pep Band & TA Dance Company as well as student lead games and a DJ to keep the energy flowing.\n\n\n\nFood choices include: \n\n*  Burgers & hot dogs cooked up by the TA Athletic Boosters\n\n*  Jamaican fare from Go See Tyce BBQ\n\n*  Warm dessert treats ala mode or not from the Treat Truck\n\n*  Pulled pork sliders\, loaded fries\, cheese steaks & more from Main's Flavor Fusion\n\n*  Ice cream treats scooped up by The Saco Scoop (along with TA swag for the Homecoming game)\n\n*  A variety of icy cold drinks offered by Friends of Thornton Academy Middle School \n\n*  Sweet-tooth satisfying candy & confections by TA's Best Buddies \n\n\n\nThe event will take place in the upper bus loops near Linnell Gymnasium. Please plan to park in the lower lots along Fairfield Street.
X-ALT-DESC;FMTTYPE=text/html:&quot\;Friday Night Bites&quot\; is a community food truck event to kickoff Thornton Academy&#39\;s Homecoming celebrations and a weekend filled with fall festivities throughout the Saco and Biddeford region! Come join us on campus from 5:00 to 7:00 pm where a variety of local vendors will be selling their yummiest bites while you and your family enjoy entertainment from the TA Pep Band &amp\; TA Dance Company as well as student lead games and a DJ to keep the energy flowing.<br />\n<br />\nFood choices include:&nbsp\;<br />\n*&nbsp\;&nbsp\;Burgers &amp\; hot dogs cooked up by the TA Athletic Boosters<br />\n*&nbsp\; Jamaican fare from Go See Tyce BBQ<br />\n*&nbsp\; Warm dessert treats ala mode or not from the Treat Truck<br />\n*&nbsp\; Pulled pork sliders\, loaded fries\, cheese steaks &amp\; more from Main&#39\;s Flavor Fusion<br />\n*&nbsp\; Ice cream treats scooped up by The Saco Scoop (along with TA swag for the Homecoming game)<br />\n*&nbsp\; A variety of icy cold drinks offered by Friends of Thornton Academy Middle School&nbsp\;<br />\n*&nbsp\; Sweet-tooth satisfying candy &amp\; confections by TA&#39\;s Best Buddies&nbsp\;<br />\n<br />\nThe event will take place in the upper bus loops near Linnell Gymnasium. Please plan to park in the lower lots along Fairfield Street.&nbsp\;
LOCATION:Thornton Academy Linnell Gymnasium parking lot 438 Main Street Saco\, ME 04072
UID:e.1923.31013
SEQUENCE:3
DTSTAMP:20260421T100131Z
URL:https://chamber.gokennebunks.com/events/details/friday-night-bites-community-food-truck-event-thornton-academy-31013
END:VEVENT

END:VCALENDAR
