BEGIN:VCALENDAR
VERSION:2.0
PRODID:-//ChamberMaster//Event Calendar 2.0//EN
METHOD:PUBLISH
X-PUBLISHED-TTL:P3D
REFRESH-INTERVAL:P3D
CALSCALE:GREGORIAN
BEGIN:VEVENT
DTSTART:20190526T130000Z
DTEND:20190526T140000Z
X-MICROSOFT-CDO-ALLDAYEVENT:FALSE
SUMMARY:FREE Yoga + Barre at Lafayette Park
DESCRIPTION:The Daily Sweat\, opening summer 2019 is hosting a FREE pop up class at Lafayette Park for all levels. Join us for yoga\, barre\, sunshine and community. Barre is a class designed to tone and sculpt muscles\, at the park we'll focus on balance as well since we won't have the barre! The second half of class will be vinyasa based and focus on the unity of breath and movement as you flow through yoga positioning.\n\n\n\nWear any athletic attire you feel comfortable in. Bring a yoga mat and water.
X-ALT-DESC;FMTTYPE=text/html:The Daily Sweat\, opening summer 2019 is hosting a FREE pop up class at Lafayette Park for all levels. Join us for yoga\, barre\, sunshine and community. Barre is a class designed to tone and sculpt muscles\, at the park we&#39\;ll focus on balance as well since we won&#39\;t have the barre! The second half of class will be vinyasa based and focus on the unity of breath and movement as you flow through yoga positioning.<br />\n<br />\nWear any athletic attire you feel comfortable in. Bring a yoga mat and water.&nbsp\;
LOCATION:Lafayette Park 9 Storer Street Kennebunk\, ME
UID:e.1923.13156
SEQUENCE:3
DTSTAMP:20260424T210553Z
URL:https://chamber.gokennebunks.com/events/details/free-yoga-barre-at-lafayette-park-13156
END:VEVENT

END:VCALENDAR
