BEGIN:VCALENDAR
VERSION:2.0
PRODID:-//ChamberMaster//Event Calendar 2.0//EN
METHOD:PUBLISH
X-PUBLISHED-TTL:P3D
REFRESH-INTERVAL:P3D
CALSCALE:GREGORIAN
BEGIN:VEVENT
DTSTART:20230720T220000Z
DTEND:20230825T000000Z
X-MICROSOFT-CDO-ALLDAYEVENT:FALSE
SUMMARY:Free Teen Fun Nights
DESCRIPTION:Free summer fun for local teens! The New School\, a high school for change in Kennebunk\, is hosting four free fun nights just for teens. Check out our summer schedule: July 20 6-8 PM Outdoor Games & S'mores July 27 6-8 PM Poetry Slam & Open Mic August 10 6-8 PM Create a Cake August 24 6-8 PM Paint Night All fun nights happen at The New School\, 38 York Street\, Kennebunk\, Maine\, 04043 FMI: thenewschool@tnsk.org/207-985-3745
X-ALT-DESC;FMTTYPE=text/html:Free summer fun for local teens! The New School\, a high school for change in Kennebunk\, is hosting four free fun nights just for teens. Check out our summer schedule: July 20 6-8 PM Outdoor Games &amp\; S&#39\;mores July 27 6-8 PM Poetry Slam &amp\; Open Mic August 10 6-8 PM Create a Cake August 24 6-8 PM Paint Night All fun nights happen at The New School\, 38 York Street\, Kennebunk\, Maine\, 04043 FMI: thenewschool@tnsk.org/207-985-3745
LOCATION:The New School\, 38 York Street\, Kennebunk\, Maine\, 04043
UID:e.1923.21942
SEQUENCE:3
DTSTAMP:20260422T045615Z
URL:https://chamber.gokennebunks.com/events/details/free-teen-fun-nights-21942
END:VEVENT

END:VCALENDAR
