BEGIN:VCALENDAR
VERSION:2.0
PRODID:-//ChamberMaster//Event Calendar 2.0//EN
METHOD:PUBLISH
X-PUBLISHED-TTL:P3D
REFRESH-INTERVAL:P3D
CALSCALE:GREGORIAN
BEGIN:VEVENT
DTSTART:20190705T150000Z
DTEND:20190705T153000Z
X-MICROSOFT-CDO-ALLDAYEVENT:FALSE
SUMMARY:Free Story Time Weekdays!
DESCRIPTION:Seashore Trolley Museum is starting a new tradition in 2019! Join us for FREE Story Time\, every weekday (Monday-Friday) from June 24th - August 30th at 11AM-11:30AM in our Exhibit Room!\n\n\n\nHear stories read by local authors and community volunteers.\n\n\n\nIf you would like to stay and enjoy the rest of our Museum and a streetcar ride\, more information about our hours and admission prices is available here: https://trolleymuseum.org/learn/hours-and-admission/ \n\n\n\nOr\, consider purchasing a Family Membership--starting at $60 for the entire season! \n\n\n\nWe are dog-friendly and have plenty of parking and picnic areas! (And tables/chairs in our Exhibit Room if you would like to picnic inside after Story Time).
X-ALT-DESC;FMTTYPE=text/html:<span style="color:rgb(29\, 33\, 41)\; font-family:helvetica\,arial\,sans-serif\; font-size:14px">Seashore Trolley Museum is starting a new tradition in 2019! Join us for FREE Story Time\, every weekday (Monday-Friday) from June 24th - August 30th at 11AM-11:30AM in our Exhibit Room!<br>\n<br>\nHear stories read by local authors and community volunteers.<br>\n<br>\nIf you would like to stay and enjoy the rest of our Museum and a streetcar ride\, more information about our hours and admission prices is available here: </span><a href="https://l.facebook.com/l.php?u=https%3A%2F%2Ftrolleymuseum.org%2Flearn%2Fhours-and-admission%2F%3Ffbclid%3DIwAR2_MvmQIXaQPdW0vJ-W82q14QwYfYs7YHIXkxYmuUy92n37LvRDc0F8ePQ&amp\;h=AT3Edpzk7OkqJEIZwXhTrJwkn-7S1MlyJkcV5Ia13e8uzPIN7UnyqApka1uPdAGWut8kvdyhiahehzJ6RZdsiwX0PG5FCM-bL8vZWPudACEze0iZ6LmKfhsfXt56sGdj" rel="nofollow noopener" style="color: rgb(56\, 88\, 152)\; cursor: pointer\; text-decoration-line: none\; font-family: Helvetica\, Arial\, sans-serif\; font-size: 14px\; white-space: pre-wrap\;" target="_blank">https://trolleymuseum.org/learn/hours-and-admission/</a><span style="color:rgb(29\, 33\, 41)\; font-family:helvetica\,arial\,sans-serif\; font-size:14px"> </span><br>\n<br>\n<span style="color:rgb(29\, 33\, 41)\; font-family:helvetica\,arial\,sans-serif\; font-size:14px">Or\, consider purchasing a Family Membership--starting at $60 for the entire season! </span><br>\n<br>\n<span style="color:rgb(29\, 33\, 41)\; font-family:helvetica\,arial\,sans-serif\; font-size:14px">We are dog-friendly and have plenty of parking and picnic areas! (And tables/chairs in our Exhibit Room if you would like to picnic inside after Story Time). </span>
LOCATION:Seashore Trolley Museum Visitors Center Exhibit Room 195 Log Cabin Road Kennebunkport\, ME 04046
UID:e.1923.13283
SEQUENCE:3
DTSTAMP:20260424T194539Z
URL:https://chamber.gokennebunks.com/events/details/free-story-time-weekdays-07-05-2019-13283
END:VEVENT

END:VCALENDAR
