BEGIN:VCALENDAR
VERSION:2.0
PRODID:-//ChamberMaster//Event Calendar 2.0//EN
METHOD:PUBLISH
X-PUBLISHED-TTL:P3D
REFRESH-INTERVAL:P3D
CALSCALE:GREGORIAN
BEGIN:VEVENT
DTSTART:20230726T143000Z
DTEND:20230726T150000Z
X-MICROSOFT-CDO-ALLDAYEVENT:FALSE
SUMMARY:Free Story Time
DESCRIPTION:Join us for FREE Story Time\, every Wednesday-Friday from Wednesday\, July 19th through Friday\, August 18th. Story time runs from 10:30AM to 11AM in our Visitors Center Exhibit Room! Hear stories read by local authors and community volunteers. If you would like to stay and enjoy the rest of our Museum and take a trolley ride if they are operating the day you visit\, more information about our hours and admission prices is available here: Hours and Admission\n\nIf you have already discovered how much fun can be had at Seashore you might consider purchasing a Family Membership. For as little as $60 two adults and three children can enjoy free admission to Seashore for the entire season! For more information on this and other membership packages visit our Membership Page.\n\nWe are dog-friendly and have plenty of parking and picnic areas. Tables and chairs are available in our Exhibit Room if you would like to picnic inside after Story Time. Picnic tables are also located in various locations around the grounds.\n\nWe are always looking for volunteer readers to fill our Story Time calendar visit: Volunteer to Read at Story Time for more information or to sign up for the date(s) that work for you! Bring a friend to read with you if you would like. Readers may join us afterwards for a complimentary streetcar ride along our private heritage railroad!
X-ALT-DESC;FMTTYPE=text/html:<p>Join us for FREE Story Time\, every Wednesday-Friday from Wednesday\, July 19th through Friday\, August 18th. Story time runs from 10:30AM to 11AM in our Visitors Center Exhibit Room! Hear stories read by local authors and community volunteers. If you would like to stay and enjoy the rest of our Museum and take a trolley ride if they are operating the day you visit\, more information about our hours and admission prices is available here:&nbsp\;<a href="https://trolleymuseum.org/learn/hours-and-admission/?fbclid=IwAR0JUPMnBUIx6aO6PXFw5G9UjGkqGBHcIKNEQLIcF-xUJUaHaWvMeP4Vk7Q" style="box-sizing: border-box\; background-color: transparent\; color: rgb(51\, 122\, 183)\; text-decoration-line: none\;">Hours and Admission</a></p>\n\n<p>If you have already discovered how much fun can be had at Seashore you might consider purchasing a Family Membership. For as little as $60 two adults and three children can enjoy free admission to Seashore for the entire season! For more information on this and other membership packages visit our&nbsp\;<a href="https://trolleymuseum.org/support/join-renew-membership/" style="box-sizing: border-box\; background-color: transparent\; color: rgb(51\, 122\, 183)\; text-decoration-line: none\;">Membership Page</a>.</p>\n\n<p>We are dog-friendly and have plenty of parking and picnic areas. Tables and chairs are available in our Exhibit Room if you would like to picnic inside after Story Time. Picnic tables are also located in various locations around the grounds.</p>\n\n<p>We are always looking for volunteer readers to fill our Story Time calendar&ndash\;visit:&nbsp\;<a href="https://trolleymuseum.org/support/volunteer-to-read/" style="box-sizing: border-box\; background-color: transparent\; color: rgb(51\, 122\, 183)\; text-decoration-line: none\;">Volunteer to Read at Story Time</a>&nbsp\;for more information or to sign up for the date(s) that work for you! Bring a friend to read with you if you would like. Readers may join us afterwards for a complimentary streetcar ride along our private heritage railroad!</p>\n
LOCATION:Seashore Trolley Museum 195 Log Cabin Road Kennebunkport\, ME 04046
UID:e.1923.19079
SEQUENCE:3
DTSTAMP:20260422T063355Z
URL:https://chamber.gokennebunks.com/events/details/free-story-time-07-26-2023-19079
END:VEVENT

END:VCALENDAR
