BEGIN:VCALENDAR
VERSION:2.0
PRODID:-//ChamberMaster//Event Calendar 2.0//EN
METHOD:PUBLISH
X-PUBLISHED-TTL:P3D
REFRESH-INTERVAL:P3D
CALSCALE:GREGORIAN
BEGIN:VEVENT
DTSTART:20230727T220000Z
DTEND:20230727T233000Z
X-MICROSOFT-CDO-ALLDAYEVENT:FALSE
SUMMARY:FREE: Homebuying Session for Today's Market
DESCRIPTION:Join Jamie for a valuable homebuying session tailored to the current real estate market trends. Whether you are a first time homebuyer or looking to upgrade\; this even is a must attend! Jamie will provide her expert advice and insights to help you navigate the homebuying process with confidence!
X-ALT-DESC;FMTTYPE=text/html:Join Jamie for a valuable homebuying session tailored to the current real estate market trends. Whether you are a first time homebuyer or looking to upgrade\; this even is a must attend! Jamie will provide her expert advice and insights to help you navigate the homebuying process with confidence!
LOCATION:loanDepot/Maine Mortgages by Jamie 68 Main Street Second Floor Kennebunk\, ME 04043
UID:e.1923.22382
SEQUENCE:3
DTSTAMP:20260422T063548Z
URL:https://chamber.gokennebunks.com/events/details/free-homebuying-session-for-today-s-market-22382
END:VEVENT

END:VCALENDAR
