BEGIN:VCALENDAR
VERSION:2.0
PRODID:-//ChamberMaster//Event Calendar 2.0//EN
METHOD:PUBLISH
X-PUBLISHED-TTL:P3D
REFRESH-INTERVAL:P3D
CALSCALE:GREGORIAN
BEGIN:VEVENT
DTSTART:20190906T140000Z
DTEND:20190906T210000Z
X-MICROSOFT-CDO-ALLDAYEVENT:FALSE
SUMMARY:Free Friday at the Brick Store Museum
DESCRIPTION:Thanks to generous support from the Mrs. James Sage Coburn Fund\, visits to the Brick Store Museum are free every Friday from May through December!
X-ALT-DESC;FMTTYPE=text/html:Thanks to generous support from the Mrs. James Sage Coburn Fund\, visits to the Brick Store Museum are free every Friday from May through December!
LOCATION:Brick Store Museum 117 Main Street Kennebunk\, Maine 04043
UID:e.1923.13178
SEQUENCE:3
DTSTAMP:20260424T164321Z
URL:https://chamber.gokennebunks.com/events/details/free-friday-at-the-brick-store-museum-09-06-2019-13178
END:VEVENT

END:VCALENDAR
