BEGIN:VCALENDAR
VERSION:2.0
PRODID:-//ChamberMaster//Event Calendar 2.0//EN
METHOD:PUBLISH
X-PUBLISHED-TTL:P3D
REFRESH-INTERVAL:P3D
CALSCALE:GREGORIAN
BEGIN:VEVENT
DTSTART:20250806T210000Z
DTEND:20250807T000000Z
X-MICROSOFT-CDO-ALLDAYEVENT:FALSE
SUMMARY:Free First Fridays at the Ogunquit Museum of American Art
DESCRIPTION:Join us for Free First Fridays at OMAA! The museum will stay open late on the first Friday of every month between June and November with free admission to all visitors between 5:00 and 8:00.
X-ALT-DESC;FMTTYPE=text/html:<span style="color:rgb(20\, 24\, 39)\; font-family:futura-pt\,helvetica\,arial\,sans-serif\; font-size:18px">Join us for Free First Fridays at OMAA! The museum will stay open late on the first Friday of every month between June and November with free admission to all visitors between 5:00 and 8:00.</span>
LOCATION:543 Shore Road\, Ogunquit Maine (207) 646-4909
UID:e.1923.35896
SEQUENCE:3
DTSTAMP:20260421T164249Z
URL:https://chamber.gokennebunks.com/events/details/free-first-fridays-at-the-ogunquit-museum-of-american-art-08-06-2025-35896
END:VEVENT

END:VCALENDAR
