BEGIN:VCALENDAR
VERSION:2.0
PRODID:-//ChamberMaster//Event Calendar 2.0//EN
METHOD:PUBLISH
X-PUBLISHED-TTL:P3D
REFRESH-INTERVAL:P3D
CALSCALE:GREGORIAN
BEGIN:VEVENT
DTSTART:20190529T223000Z
DTEND:20190529T233000Z
X-MICROSOFT-CDO-ALLDAYEVENT:FALSE
SUMMARY:FREE Barre at Frinklepod Farm
DESCRIPTION:The Daily Sweat\, opening summer 2019 is hosting a FREE barre class at Frinklepod for all levels. Come early to see the farm and join us for a barre class. Class will tone and sculpt your body but we'll be doing without the barre since we'll be at the farm. \n\n\n\nArrive 15 minutes early to fill out a waiver. \n\n\n\nPlease wear athletic apparel and bring a yoga mat and water. \n\nSpace is limited so please email thedailysweatkennebunk@gmail.com to reserve your spot.
X-ALT-DESC;FMTTYPE=text/html:The Daily Sweat\, opening summer 2019 is hosting a FREE barre class at Frinklepod for all levels. Come early to see the farm and join us for a barre class. Class will tone and sculpt your body but we&#39\;ll be doing without the barre since we&#39\;ll be at the farm.&nbsp\;<br />\n<br />\nArrive 15 minutes early to fill out a waiver.&nbsp\;<br />\n<br />\nPlease wear athletic apparel and bring a yoga mat and water.&nbsp\;<br />\nSpace is limited so please email thedailysweatkennebunk@gmail.com to reserve your spot.&nbsp\;
LOCATION:Frinklepod Farm 244 Log Cabin RD Arundel\, ME
UID:e.1923.13157
SEQUENCE:3
DTSTAMP:20260424T222809Z
URL:https://chamber.gokennebunks.com/events/details/free-barre-at-frinklepod-farm-13157
END:VEVENT

END:VCALENDAR
