BEGIN:VCALENDAR
VERSION:2.0
PRODID:-//ChamberMaster//Event Calendar 2.0//EN
METHOD:PUBLISH
X-PUBLISHED-TTL:P3D
REFRESH-INTERVAL:P3D
CALSCALE:GREGORIAN
BEGIN:VEVENT
DTSTART:20240627T213000Z
DTEND:20240627T233000Z
X-MICROSOFT-CDO-ALLDAYEVENT:FALSE
SUMMARY:Framing the Future-Habitat for Humanity Fundraiser
DESCRIPTION:Habitat for Humanity's biggest fundraiser of the year is back! Live Music From Lisa\, Jim and Byon Band Raffles and Silent Auction Hors D'oeuvres from Batson River Habitat for Humanity project updates
X-ALT-DESC;FMTTYPE=text/html:Habitat for Humanity&#39\;s biggest fundraiser of the year is back! Live Music From Lisa\, Jim and Byon Band Raffles and Silent Auction Hors D&rsquo\;oeuvres from Batson River Habitat for Humanity project updates
LOCATION:The Lincoln Hotel in Biddeford
UID:e.1923.25258
SEQUENCE:3
DTSTAMP:20260421T140230Z
URL:https://chamber.gokennebunks.com/events/details/framing-the-future-habitat-for-humanity-fundraiser-25258
END:VEVENT

END:VCALENDAR
