BEGIN:VCALENDAR
VERSION:2.0
PRODID:-//ChamberMaster//Event Calendar 2.0//EN
METHOD:PUBLISH
X-PUBLISHED-TTL:P3D
REFRESH-INTERVAL:P3D
CALSCALE:GREGORIAN
BEGIN:VEVENT
DTSTART:20240403T213000Z
DTEND:20240403T223000Z
X-MICROSOFT-CDO-ALLDAYEVENT:FALSE
SUMMARY:Foundations of Investing
DESCRIPTION:Building your investor IQ starts with understanding the basics. Whether you are new to investing or want a refresher\, our Foundations of investing presentation will help you learn about:   The importance of developing a strategy   The impact of asset allocation   Ideas for focusing on what you can control with your finances Taught by Holly Benson from Edward Jones No cost to attend
X-ALT-DESC;FMTTYPE=text/html:Building your investor IQ starts with understanding the basics. Whether you are new to investing or want a refresher\, our Foundations of investing presentation will help you learn about: &bull\; The importance of developing a strategy &bull\; The impact of asset allocation &bull\; Ideas for focusing on what you can control with your finances Taught by Holly Benson from Edward Jones No cost to attend
LOCATION:Habitat for Humanity/Restore 123 York Street in Kennebunk
UID:e.1923.24577
SEQUENCE:3
DTSTAMP:20260421T164043Z
URL:https://chamber.gokennebunks.com/events/details/foundations-of-investing-24577
END:VEVENT

END:VCALENDAR
