BEGIN:VCALENDAR
VERSION:2.0
PRODID:-//ChamberMaster//Event Calendar 2.0//EN
METHOD:PUBLISH
X-PUBLISHED-TTL:P3D
REFRESH-INTERVAL:P3D
CALSCALE:GREGORIAN
BEGIN:VEVENT
DTSTART:20260321T180000Z
DTEND:20260321T193000Z
X-MICROSOFT-CDO-ALLDAYEVENT:FALSE
SUMMARY:Foraged & Stirred Mixology at Earth
DESCRIPTION:Embark on a delightful journey through vibrant cocktails in our Foraged & Stirred Mixology Class at Earth. Each drink is thoughtfully crafted to highlight ingredients sourced from nature think pine\, fresh vegetables\, and subtle smoky elements. Whether you're a seasoned cocktail enthusiast or a curious beginner\, this hands-on experience will guide you through the art of cocktail creation with creativity\, confidence\, and flair. Our expert bartenders will walk you through the techniques and tips needed to recreate these refreshing cocktails at home. You'll learn how to transform simple ingredients into drinks that are as beautiful as they are flavorful. Includes three (3) full cocktails tastings and small snacks. Part of programming for Spring into Summer in Kennebunkport! The class warmly welcomes adults who are 21 years of age or older and kindly requests that they bring proper identification upon arrival. We eagerly anticipate your attendance.
X-ALT-DESC;FMTTYPE=text/html:Embark on a delightful journey through vibrant cocktails in our Foraged &amp\; Stirred Mixology Class at Earth. Each drink is thoughtfully crafted to highlight ingredients sourced from nature&mdash\;think pine\, fresh vegetables\, and subtle smoky elements. Whether you&rsquo\;re a seasoned cocktail enthusiast or a curious beginner\, this hands-on experience will guide you through the art of cocktail creation with creativity\, confidence\, and flair. Our expert bartenders will walk you through the techniques and tips needed to recreate these refreshing cocktails at home. You&#39\;ll learn how to transform simple ingredients into drinks that are as beautiful as they are flavorful. Includes three (3) full cocktails tastings and small snacks. Part of programming for Spring into Summer in Kennebunkport! The class warmly welcomes adults who are 21 years of age or older and kindly requests that they bring proper identification upon arrival. We eagerly anticipate your attendance.
LOCATION:Earth at Hidden Pond 354 Goose Rocks Rd Kennebunkport\, ME 04046
UID:e.1923.38947
SEQUENCE:3
DTSTAMP:20260421T220838Z
URL:https://chamber.gokennebunks.com/events/details/foraged-stirred-mixology-at-earth-38947
END:VEVENT

END:VCALENDAR
