BEGIN:VCALENDAR
VERSION:2.0
PRODID:-//ChamberMaster//Event Calendar 2.0//EN
METHOD:PUBLISH
X-PUBLISHED-TTL:P3D
REFRESH-INTERVAL:P3D
CALSCALE:GREGORIAN
BEGIN:VEVENT
DTSTART:20230706T140000Z
DTEND:20230706T150000Z
X-MICROSOFT-CDO-ALLDAYEVENT:FALSE
SUMMARY:FLOWER POWER PLANT POTS
DESCRIPTION:Thursday\, July 6\, 10 AM. Flower Power Plant Pots. Louis T. Graves Memorial Public Library\, 18 Maine Street\, Kennebunkport. As part of our summer reading program\, children are invited to decorate their own little plant pot perfect for a seedling or succulent with stickers\, gems\, and magic markers. All materials will be provided. Pre-registration is encouraged. For further information\, please call 967-2778 or visit our website at www.graveslibrary.org.
X-ALT-DESC;FMTTYPE=text/html:Thursday\, July 6\, 10 AM. Flower Power Plant Pots. Louis T. Graves Memorial Public Library\, 18 Maine Street\, Kennebunkport. As part of our summer reading program\, children are invited to decorate their own little plant pot perfect for a seedling or succulent with stickers\, gems\, and magic markers. All materials will be provided. Pre-registration is encouraged. For further information\, please call 967-2778 or visit our website at www.graveslibrary.org.
LOCATION:Louis T. Graves Memorial Public Library\, 18 Maine Street\, Kennebunkport
UID:e.1923.20882
SEQUENCE:3
DTSTAMP:20260422T050103Z
URL:https://chamber.gokennebunks.com/events/details/flower-power-plant-pots-20882
END:VEVENT

END:VCALENDAR
