BEGIN:VCALENDAR
VERSION:2.0
PRODID:-//ChamberMaster//Event Calendar 2.0//EN
METHOD:PUBLISH
X-PUBLISHED-TTL:P3D
REFRESH-INTERVAL:P3D
CALSCALE:GREGORIAN
BEGIN:VEVENT
DTSTART:20250610T213000Z
DTEND:20250610T230000Z
X-MICROSOFT-CDO-ALLDAYEVENT:FALSE
SUMMARY:FLOWER POT PAINTING WITH MARGUERITE GENEST
DESCRIPTION:Join us for a fun night out with Maine artist Marguerite Genest. For this program\, you will paint a five-inch white terracotta flower pot using acrylic paints and complete the project from start to finish. All adult skill levels are welcome\, all supplies are provided\, and registration is required. Light refreshments will be served. The Louis T. Graves Memorial Public Library is located at 18 Maine Street\, Kennebunkport. For further information\, please call 207-967-2778 or visit our website at www.graveslibrary.org.
X-ALT-DESC;FMTTYPE=text/html:<span style="font-family:arial\,sans-serif">Join us for a fun night out with Maine artist Marguerite Genest. For this program\, you will paint a five-inch white terracotta flower pot using acrylic paints and complete the project from start to finish. All adult skill levels are welcome\, all supplies are provided\, and registration is required. Light refreshments will be served. The Louis T. Graves Memorial Public Library is located at 18 Maine Street\, Kennebunkport. For further information\, please call 207-967-2778 or visit our website at www.graveslibrary.org.</span>
LOCATION:The Louis T. Graves Memorial Public Library is located at 18 Maine Street\, Kennebunkport. For further information\, please call 207-967-2778 or visit our website at www.graveslibrary.org.
UID:e.1923.34945
SEQUENCE:3
DTSTAMP:20260421T062357Z
URL:https://chamber.gokennebunks.com/events/details/flower-pot-painting-with-marguerite-genest-34945
END:VEVENT

END:VCALENDAR
