BEGIN:VCALENDAR
VERSION:2.0
PRODID:-//ChamberMaster//Event Calendar 2.0//EN
METHOD:PUBLISH
X-PUBLISHED-TTL:P3D
REFRESH-INTERVAL:P3D
CALSCALE:GREGORIAN
BEGIN:VEVENT
DTSTART:20230521T150000Z
DTEND:20230521T160000Z
X-MICROSOFT-CDO-ALLDAYEVENT:FALSE
SUMMARY:flow + spirits // come sweat + flow with us and our new friends at wild bevy distilling
DESCRIPTION:take class with us inside the distillery for a very fun + unique experience.  stay for a bit to hang out after as 1 free drink is included with your class.  \n\n$25 includes your drink + class
X-ALT-DESC;FMTTYPE=text/html:<p style="font-family: Arial\, Helvetica\, sans-serif\; font-size: small\; margin: 1rem 0px 0px\; color: rgb(0\, 0\, 0)\; white-space: pre-wrap\;"><font face="arial\, sans-serif">take class with us inside the distillery for a very fun + unique experience.&nbsp\; stay for a bit to hang out after as 1 free drink is included with your class.&nbsp\; </font></p>\n\n<p style="font-family: Arial\, Helvetica\, sans-serif\; font-size: small\; margin: 1rem 0px 0px\; color: rgb(0\, 0\, 0)\; white-space: pre-wrap\;"><font face="arial\, sans-serif">$25 includes your drink + class</font></p>\n
LOCATION:
UID:e.1923.19128
SEQUENCE:3
DTSTAMP:20260424T101534Z
URL:https://chamber.gokennebunks.com/events/details/flow-spirits-come-sweat-flow-with-us-and-our-new-friends-at-wild-bevy-distilling-19128
END:VEVENT

END:VCALENDAR
