BEGIN:VCALENDAR
VERSION:2.0
PRODID:-//ChamberMaster//Event Calendar 2.0//EN
METHOD:PUBLISH
X-PUBLISHED-TTL:P3D
REFRESH-INTERVAL:P3D
CALSCALE:GREGORIAN
BEGIN:VEVENT
DTSTART:20230723T150000Z
DTEND:20230723T160000Z
X-MICROSOFT-CDO-ALLDAYEVENT:FALSE
SUMMARY:flow + spirits
DESCRIPTION:come sweat + flow with us and our new friends at wild bevy distilling. take class with us inside the distillery for a very fun + unique experience. stay for a bit to hang out after as 1 free drink is included with your class. $25 includes your drink + class\, 20% discount for members. more on sweat + flow: sweat + flow is our spin on a vinyasa/flow class. classes are set to music that will ebb and flow with your heart rate as we take you through breath work\, sun salutations\, yummy heart melting pose\, and everything in between. so come find your groove\, belt out a little Whitney Houston if it's in you and let your to-do list melt away as you carve out one hour just for you.
X-ALT-DESC;FMTTYPE=text/html:come sweat + flow with us and our new friends at wild bevy distilling. take class with us inside the distillery for a very fun + unique experience. stay for a bit to hang out after as 1 free drink is included with your class. $25 includes your drink + class\, 20% discount for members. more on sweat + flow: sweat + flow is our spin on a vinyasa/flow class. classes are set to music that will ebb and flow with your heart rate as we take you through breath work\, sun salutations\, yummy heart melting pose\, and everything in between. so come find your groove\, belt out a little Whitney Houston if it&#39\;s in you and let your to-do list melt away as you carve out one hour just for you.
LOCATION:Wild Bevy 596 N Berwick Rd\, Wells\, ME
UID:e.1923.19972
SEQUENCE:3
DTSTAMP:20260422T050152Z
URL:https://chamber.gokennebunks.com/events/details/flow-spirits-07-23-2023-19972
END:VEVENT

END:VCALENDAR
