BEGIN:VCALENDAR
VERSION:2.0
PRODID:-//ChamberMaster//Event Calendar 2.0//EN
METHOD:PUBLISH
X-PUBLISHED-TTL:P3D
REFRESH-INTERVAL:P3D
CALSCALE:GREGORIAN
BEGIN:VEVENT
DTSTART:20250729T133000Z
DTEND:20250729T163000Z
X-MICROSOFT-CDO-ALLDAYEVENT:FALSE
SUMMARY:flow + paddle
DESCRIPTION:join us for an outdoor class by the lighthouse at The Nonantum Resort at 9:30A\, following class you'll get to enjoy paddle boards delivered to Nonantum and uninterrupted paddling until 12:30P in the calm waters of Kennebunkport.
X-ALT-DESC;FMTTYPE=text/html:join us for an outdoor class by the lighthouse at The Nonantum Resort at 9:30A\, following class you&rsquo\;ll get to enjoy paddle boards delivered to Nonantum and uninterrupted paddling until 12:30P in the calm waters of Kennebunkport.
LOCATION:The Nonantum Resort\, 95 Ocean Ave\, Kennebunkport ME\, 04046
UID:e.1923.35910
SEQUENCE:3
DTSTAMP:20260421T073251Z
URL:https://chamber.gokennebunks.com/events/details/flow-paddle-07-29-2025-35910
END:VEVENT

END:VCALENDAR
