BEGIN:VCALENDAR
VERSION:2.0
PRODID:-//ChamberMaster//Event Calendar 2.0//EN
METHOD:PUBLISH
X-PUBLISHED-TTL:P3D
REFRESH-INTERVAL:P3D
CALSCALE:GREGORIAN
BEGIN:VEVENT
DTSTART:20260307T190000Z
DTEND:20260307T203000Z
X-MICROSOFT-CDO-ALLDAYEVENT:FALSE
SUMMARY:Floral & Fresh Mixology at Earth
DESCRIPTION:Experience a delightful journey through vibrant cocktails in our Floral & Fresh Mixology Class at Earth! Each drink is crafted to showcase fresh\, bold flavors and eye-catching colors\, making this the perfect way to celebrate the season. Whether you're a seasoned cocktail enthusiast or a curious beginner\, this hands-on class will teach you the art of crafting cocktails with creativity and flair. Our expert bartenders will walk you through the techniques and tips needed to recreate these refreshing cocktails at home. Focused on spring-inspired ingredients like fresh herbs\, citrus\, and colorful garnishes\, you'll learn how to transform simple ingredients into drinks that are as beautiful as they are flavorful. Includes three (3) full cocktails tastings and small snacks. Part of programming for Spring into Summer in Kennebunkport! The class warmly welcomes adults who are 21 years of age or older and kindly requests that they bring proper identification upon arrival. We eagerly anticipate your attendance.
X-ALT-DESC;FMTTYPE=text/html:Experience a delightful journey through vibrant cocktails in our Floral &amp\; Fresh Mixology Class at Earth! Each drink is crafted to showcase fresh\, bold flavors and eye-catching colors\, making this the perfect way to celebrate the season. Whether you&#39\;re a seasoned cocktail enthusiast or a curious beginner\, this hands-on class will teach you the art of crafting cocktails with creativity and flair. Our expert bartenders will walk you through the techniques and tips needed to recreate these refreshing cocktails at home. Focused on spring-inspired ingredients like fresh herbs\, citrus\, and colorful garnishes\, you&#39\;ll learn how to transform simple ingredients into drinks that are as beautiful as they are flavorful. Includes three (3) full cocktails tastings and small snacks. Part of programming for Spring into Summer in Kennebunkport! The class warmly welcomes adults who are 21 years of age or older and kindly requests that they bring proper identification upon arrival. We eagerly anticipate your attendance.
LOCATION:Earth at Hidden Pond 354 Goose Rocks Rd Kennebunkport\, ME 04046
UID:e.1923.38941
SEQUENCE:3
DTSTAMP:20260421T220855Z
URL:https://chamber.gokennebunks.com/events/details/floral-fresh-mixology-at-earth-38941
END:VEVENT

END:VCALENDAR
