BEGIN:VCALENDAR
VERSION:2.0
PRODID:-//ChamberMaster//Event Calendar 2.0//EN
METHOD:PUBLISH
X-PUBLISHED-TTL:P3D
REFRESH-INTERVAL:P3D
CALSCALE:GREGORIAN
BEGIN:VEVENT
DTSTART:20190612T140000Z
DTEND:20190612T160000Z
X-MICROSOFT-CDO-ALLDAYEVENT:FALSE
SUMMARY:Fishing for Freedom
DESCRIPTION:Cheer on Wounded Warriors as they make their way down the Kennebunk River for a day of fishing on the water. Volunteers will be handing out American flags at both jettys to give them the recognition and tribute they deserve!
X-ALT-DESC;FMTTYPE=text/html:Cheer on Wounded Warriors as they make their way down the Kennebunk River for a day of fishing on the water. Volunteers will be handing out American flags at both jettys to give them the recognition and tribute they deserve!
LOCATION:Boats will leave from the Nonantum Resort\, cheer them on at both jettys.
UID:e.1923.13098
SEQUENCE:3
DTSTAMP:20260424T194258Z
URL:https://chamber.gokennebunks.com/events/details/fishing-for-freedom-13098
END:VEVENT

END:VCALENDAR
