BEGIN:VCALENDAR
VERSION:2.0
PRODID:-//ChamberMaster//Event Calendar 2.0//EN
METHOD:PUBLISH
X-PUBLISHED-TTL:P3D
REFRESH-INTERVAL:P3D
CALSCALE:GREGORIAN
BEGIN:VEVENT
DTSTART;VALUE=DATE:20230729
DTEND;VALUE=DATE:20230731
TRANSP:TRANSPARENT
X-MICROSOFT-CDO-ALLDAYEVENT:TRUE
SUMMARY:First Responder Appreciation Weekend at Seashore
DESCRIPTION:First Responder Appreciation Weekend at Seashore gives us an opportunity to say\, "thank you" to those that are there for us at tough times. To show our gratitude to all First Responders\, visit us on Saturday/Sunday July 28 and 29 and enjoy free admission to the museum. If you are a First Responder\, please come and accept our thanks. If you are not a First Responder but are here and recognize one in our midst\, please express your gratitude.
X-ALT-DESC;FMTTYPE=text/html:<span style="font-family:merriweather\,georgia\,times new roman\,times\,serif\; font-size:16px">First Responder Appreciation Weekend at Seashore gives us an opportunity to say\, &ldquo\;thank you&rdquo\; to those that are there for us at tough times. To show our gratitude to all First Responders\, visit us on Saturday/Sunday July 28 and 29 and enjoy free admission to the museum. If you are a First Responder\, please come and accept our thanks. If you are not a First Responder but are here and recognize one in our midst\, please express your gratitude.</span>
LOCATION:Seashore Trolley Museum 195 Log Cabin Road Kennebunkport\, ME 04046
UID:e.1923.19092
SEQUENCE:3
DTSTAMP:20260422T050152Z
URL:https://chamber.gokennebunks.com/events/details/first-responder-appreciation-weekend-at-seashore-19092
END:VEVENT

END:VCALENDAR
