BEGIN:VCALENDAR
VERSION:2.0
PRODID:-//ChamberMaster//Event Calendar 2.0//EN
METHOD:PUBLISH
X-PUBLISHED-TTL:P3D
REFRESH-INTERVAL:P3D
CALSCALE:GREGORIAN
BEGIN:VEVENT
DTSTART:20171119T000000Z
DTEND:20171119T013000Z
X-MICROSOFT-CDO-ALLDAYEVENT:FALSE
SUMMARY:Fire of '47 Retrospective (2nd Showing)
DESCRIPTION:This October marked the 70th Anniversary of the Fire of '47\, a large wildfire that burned much of the state (from Kennebunkport to Bar Harbor) in 1947. On Saturday\, November 18th at 7:00pm\, the Brick Store Museum presents Town Historian Stephen P. Spofford's presentation on the history of the "Week Maine Burned" at the Kennebunk Town Hall Auditorium at the Brick Store Museum Program Center.\n\n\n\nAlongside the lecture will be archival photos of the fire\, home film reels\, and personal recounts of the events from local citizens.\n\n\n\nTickets: $5 per person\, benefiting the Brick Store Museum\n\n\n\nTickets can be purchased at the door\, or in advance at the Brick Store Museum at 117 Main Street\, Kennebunk.\n\n\n\nBefore seeing the lecture\, make sure to stop by the Brick Store Museum's retrospective exhibition on the Fire of '47!
X-ALT-DESC;FMTTYPE=text/html:<span style="color:rgb(75\, 79\, 86)\; font-family:helvetica\,arial\,sans-serif\; font-size:14px">This October marked the 70th Anniversary of the Fire of &#39\;47\, a large wildfire that burned much of the state (from Kennebunkport to Bar Harbor) in 1947. On Saturday\, November 18th at 7:00pm\, the Brick Store Museum presents Town Historian Stephen P. Spofford&#39\;s presentation on the history of the &quot\;Week Maine Burned&quot\; at the Kennebunk Town Hall Auditorium at the Brick Store Museum Program Center.</span><br />\n<br />\n<span style="color:rgb(75\, 79\, 86)\; font-family:helvetica\,arial\,sans-serif\; font-size:14px">Alongside the lecture will be archival photos of the fire\, home film reels\, and personal recounts of the events from local citizens.</span><br />\n<br />\n<span style="color:rgb(75\, 79\, 86)\; font-family:helvetica\,arial\,sans-serif\; font-size:14px">Tickets: $5 per person\, benefiting the Brick Store Museum</span><br />\n<br />\n<span style="color:rgb(75\, 79\, 86)\; font-family:helvetica\,arial\,sans-serif\; font-size:14px">Tickets can be purchased at the door\, or in advance at the Brick Store Museum at 117 Main Street\, Kennebunk.</span><br />\n<br />\n<span style="color:rgb(75\, 79\, 86)\; font-family:helvetica\,arial\,sans-serif\; font-size:14px">Before seeing the lecture\, make sure to stop by the Brick Store Museum&#39\;s retrospective exhibition on the Fire of &#39\;47!</span>
LOCATION:117 Main Street\, Kennebunk\, ME 04043
UID:e.1923.6970
SEQUENCE:3
DTSTAMP:20260425T235208Z
URL:https://chamber.gokennebunks.com/events/details/fire-of-47-retrospective-2nd-showing-6970
END:VEVENT

END:VCALENDAR
