BEGIN:VCALENDAR
VERSION:2.0
PRODID:-//ChamberMaster//Event Calendar 2.0//EN
METHOD:PUBLISH
X-PUBLISHED-TTL:P3D
REFRESH-INTERVAL:P3D
CALSCALE:GREGORIAN
BEGIN:VEVENT
DTSTART:20231210T000000Z
DTEND:20231210T030000Z
X-MICROSOFT-CDO-ALLDAYEVENT:FALSE
SUMMARY:Fire & Ice at The Nonantum Resort (Saturday Night)
DESCRIPTION:Fire & Ice at The Nonantum Resort\n\nat The Nonantum Resort\, 95 Ocean Ave\, Kennnebunkport\, Maine\n\nSaturday\, December 9\, 2023 (7-10pm)\n\nBlazing Bonfires\, Cool Ice Bars & Sculptures\, and Creative Food & Drink\n\n\n\nIt's the hottest ticket in town and the perfect ending to Kennebunkport's 42nd Annual Christmas Prelude! This event is back for the 2023 season. We can't wait to celebrate with you!\n\n\n\nMusical Guests: The Carmine Band\n\n\n\n= ==================================================\n\n\n\nAdults only\, 21+. ID's Required.\n\n\n\nEnjoy a VIP experience with a Private Soir e Suites!!\n\n\n\nTake your Fire & Ice event to the next level! A package deal for up to 15 people that will truly enhance every aspect of the magic of Fire & Ice.\n\n\n\nHere's What You'll Get:\n\n\n\n A cozy private room with walk out patio abutting the back lawn (complete with seating and a private bathroom)\n\n Tickets to Fire & Ice for you and your friends\n\n Complimentary Drink Tickets (One Per Person)\n\n Elegant Charcuterie Board ($150 value)\n\n A champagne toast with custom glasses ($300 value)\n\n Private patio with firepit\, complete with s'mores kit ($75 value)\n\n\n\nThere are limited suites available per event\, so if you want one\, make sure you put it in your cart as soon as the clock strikes 9am!\n\n\n\nFAQs:\n\n\n\nAdults only\, 21+. ID's Required.\n\n\n\nALL Ticket Holders will need to present a state issued ID for proof of age. We have the right to refuse entry. No one under the age of 21 will be permitted on property during this event (including infants).\n\n\n\nDo I have to bring my ticket to the event?\n\n\n\nWe love digital! Download the Eventbrite app so we can scan your ticket at the door OR you can bring a printed ticket if you'd like. Your ticket allows you entry and attendance during the date and time stated on your ticket ONLY. No tickets will be sold at the door.\n\n\n\nWhat if I purchase tickets and then I can't make it?\n\n\n\nTickets are non-refundable but ARE transferable to others. You are welcome to give/sell your tickets to friends and family in advance of the event. *Please contact Eventbrite with the new ticketholder's email address to ensure they'll be able to print out the tickets or show the confirmation on their phone to get in. The tickets may not be exchanged for any other dates\, times\, or events.\n\n\n\nWhere should I park?\n\n\n\nAll Parking will be Off-Site with continuous shuttle service throughout the evening.\n\n\n\nIs food included in the ticket price?\n\n\n\nYes! Your ticket includes a delightful variety of options from our award-winning Chef that will be sure to please! Beer\, wine\, and cocktails are available for purchase for an additional fee. Please Note: No Cash will be accepted at any of the outdoor bars   ONLY drink tickets which can be purchased onsite with cash or a credit card.\n\n\n\nEvent will take place regardless of weather. Attractions\, including the band/dancing\, will be outside. Please dress for the weather.\n\n\n\nWe encourage attendees to plan responsible rides\, or to pre-book a stay with us on-site at our Resort. Based on availability.
X-ALT-DESC;FMTTYPE=text/html:<h2><strong>Fire &amp\; Ice at The Nonantum Resort</strong></h2>\n\n<p>at The Nonantum Resort\, 95 Ocean Ave\, Kennnebunkport\, Maine</p>\n\n<p>Saturday\, December 9\, 2023 (7-10pm)</p>\n\n<p>Blazing Bonfires\, Cool Ice Bars &amp\; Sculptures\, and Creative Food &amp\; Drink<br />\n<br />\nIt&#39\;s the hottest ticket in town and the perfect ending to Kennebunkport&#39\;s 42nd Annual Christmas Prelude! This event is back for the 2023 season. We can&#39\;t wait to celebrate with you!<br />\n<br />\nMusical Guests: The Carmine Band<br />\n<br />\n= ==================================================<br />\n<br />\nAdults only\, 21+. ID&rsquo\;s Required.<br />\n<br />\nEnjoy a VIP experience with a Private Soir&eacute\;e Suites!!<br />\n<br />\nTake your Fire &amp\; Ice event to the next level! A package deal for up to 15 people that will truly enhance every aspect of the magic of Fire &amp\; Ice.<br />\n<br />\nHere&#39\;s What You&#39\;ll Get:<br />\n<br />\n&bull\;A cozy private room with walk out patio abutting the back lawn (complete with seating and a private bathroom)<br />\n&bull\;Tickets to Fire &amp\; Ice for you and your friends<br />\n&bull\;Complimentary Drink Tickets (One Per Person)<br />\n&bull\;Elegant Charcuterie Board ($150 value)<br />\n&bull\;A champagne toast with custom glasses ($300 value)<br />\n&bull\;Private patio with firepit\, complete with s&#39\;mores kit ($75 value)<br />\n<br />\nThere are limited suites available per event\, so if you want one\, make sure you put it in your cart as soon as the clock strikes 9am!<br />\n<br />\nFAQs:<br />\n<br />\nAdults only\, 21+. ID&rsquo\;s Required.<br />\n<br />\nALL Ticket Holders will need to present a state issued ID for proof of age. We have the right to refuse entry. No one under the age of 21 will be permitted on property during this event (including infants).<br />\n<br />\nDo I have to bring my ticket to the event?<br />\n<br />\nWe love digital! Download the Eventbrite app so we can scan your ticket at the door OR you can bring a printed ticket if you&#39\;d like. Your ticket allows you entry and attendance during the date and time stated on your ticket ONLY. No tickets will be sold at the door.<br />\n<br />\nWhat if I purchase tickets and then I can&#39\;t make it?<br />\n<br />\nTickets are non-refundable but ARE transferable to others. You are welcome to give/sell your tickets to friends and family in advance of the event. *Please contact Eventbrite with the new ticketholder&#39\;s email address to ensure they&#39\;ll be able to print out the tickets or show the confirmation on their phone to get in. The tickets may not be exchanged for any other dates\, times\, or events.<br />\n<br />\nWhere should I park?<br />\n<br />\nAll Parking will be Off-Site with continuous shuttle service throughout the evening.<br />\n<br />\nIs food included in the ticket price?<br />\n<br />\nYes! Your ticket includes a delightful variety of options from our award-winning Chef that will be sure to please! Beer\, wine\, and cocktails are available for purchase for an additional fee. Please Note: No Cash will be accepted at any of the outdoor bars &ndash\; ONLY drink tickets which can be purchased onsite with cash or a credit card.<br />\n<br />\nEvent will take place regardless of weather. Attractions\, including the band/dancing\, will be outside. Please dress for the weather.<br />\n<br />\nWe encourage attendees to plan responsible rides\, or to pre-book a stay with us on-site at our Resort. Based on availability.</p>\n\n<p>&nbsp\;</p>\n
LOCATION:The Nonantum Resort\, 95 Ocean Ave\, Kennnebunkport\, Maine
UID:e.1923.23046
SEQUENCE:3
DTSTAMP:20260421T232243Z
URL:https://chamber.gokennebunks.com/events/details/fire-ice-at-the-nonantum-resort-saturday-night-23046
END:VEVENT

END:VCALENDAR
