BEGIN:VCALENDAR
VERSION:2.0
PRODID:-//ChamberMaster//Event Calendar 2.0//EN
METHOD:PUBLISH
X-PUBLISHED-TTL:P3D
REFRESH-INTERVAL:P3D
CALSCALE:GREGORIAN
BEGIN:VEVENT
DTSTART:20180915T010000Z
DTEND:20180916T190000Z
X-MICROSOFT-CDO-ALLDAYEVENT:FALSE
SUMMARY:"Filled To The Brim" Estate Sale
DESCRIPTION:
X-ALT-DESC;FMTTYPE=text/html:
LOCATION:22 Fairfield Dr. Across from the Franciscan Monastery Kennebunk\, ME 04043
UID:e.1923.11471
SEQUENCE:3
DTSTAMP:20260425T120023Z
URL:https://chamber.gokennebunks.com/events/details/filled-to-the-brim-estate-sale-11471
END:VEVENT

END:VCALENDAR
