BEGIN:VCALENDAR
VERSION:2.0
PRODID:-//ChamberMaster//Event Calendar 2.0//EN
METHOD:PUBLISH
X-PUBLISHED-TTL:P3D
REFRESH-INTERVAL:P3D
CALSCALE:GREGORIAN
BEGIN:VEVENT
DTSTART:20250614T130000Z
DTEND:20250614T190000Z
X-MICROSOFT-CDO-ALLDAYEVENT:FALSE
SUMMARY:Father's Day Raffle
DESCRIPTION:The Kennebunk Artisans Marketplace will be offering "themed days" throughout our May through early October season.  Today's theme is "Father's Day".  We will be offering a "raffle basket" on each of our themed days that will contain samples of some of our crafters' creations\, along with other items that represent the theme for that day.  Raffle tickets will be given out to customers for every item they purchase from one of our many vendors at the Kennebunk Artisans Marketplace.  Come join the fun!  We are open from 9a   3p every Saturday\, from May 24th through October 4th.
X-ALT-DESC;FMTTYPE=text/html:The <strong>Kennebunk Artisans Marketplace</strong> will be offering &ldquo\;themed days&rdquo\; throughout our May through early October season.&nbsp\; Today&rsquo\;s theme is <strong>&ldquo\;Father&rsquo\;s Day&rdquo\;</strong>.&nbsp\; We will be offering a &ldquo\;raffle basket&rdquo\; on each of our themed days that will contain samples of some of our crafters&rsquo\; creations\, along with other items that represent the theme for that day.&nbsp\; Raffle tickets will be given out to customers for <strong>every item they purchase</strong> from one of our many vendors at the <strong>Kennebunk Artisans Marketplace</strong>.&nbsp\; Come join the fun!&nbsp\; We are open from 9a &ndash\; 3p every Saturday\, from May 24<sup>th</sup> through October 4<sup>th</sup>.<br />\n&nbsp\;
LOCATION:The Waterhouse Center 51 Main Street Kennebunk\, ME 04043
UID:e.1923.35090
SEQUENCE:3
DTSTAMP:20260421T061206Z
URL:https://chamber.gokennebunks.com/events/details/father-s-day-raffle-35090
END:VEVENT

END:VCALENDAR
