BEGIN:VCALENDAR
VERSION:2.0
PRODID:-//ChamberMaster//Event Calendar 2.0//EN
METHOD:PUBLISH
X-PUBLISHED-TTL:P3D
REFRESH-INTERVAL:P3D
CALSCALE:GREGORIAN
BEGIN:VEVENT
DTSTART:20250615T150000Z
DTEND:20250616T010000Z
X-MICROSOFT-CDO-ALLDAYEVENT:FALSE
SUMMARY:Father's Day at the Nonantum
DESCRIPTION:Treat Dad to something he'll really enjoy this Father's Day great food\, cold beer\, and quality time with the people who matter most.\n\nWe're serving up our signature Nonantum burgers paired with your choice of any draft or canned beer from our current selection for just $18. Whether you're dining indoors at Heckmans Pub or soaking up the riverside breeze at Latitudes\, it's the perfect way to celebrate the day.\n\nAvailable open to close at both of our dining outlets\, no reservations needed. Just come hungry and ready to toast to Dad!
X-ALT-DESC;FMTTYPE=text/html:<p>Treat Dad to something he&rsquo\;ll really enjoy this Father&rsquo\;s Day&mdash\;great food\, cold beer\, and quality time with the people who matter most.</p>\n\n<p>We&rsquo\;re serving up our&nbsp\;<strong>signature Nonantum burgers</strong>&nbsp\;paired with&nbsp\;<strong>your choice of any draft or canned beer</strong>&nbsp\;from our current selection for just&nbsp\;<strong>$18</strong>. Whether you&rsquo\;re dining indoors at&nbsp\;<strong>Heckmans Pub</strong>&nbsp\;or soaking up the riverside breeze at&nbsp\;<strong>Latitudes</strong>\, it&rsquo\;s the perfect way to celebrate the day.</p>\n\n<p>Available open to close at both of our dining outlets\, no reservations needed. Just come hungry and ready to toast to Dad!</p>\n
LOCATION:Heckman's Pub or Latitudes Nonantum Resort 95 Ocean Ave\, Kennebunkport\, ME 04046
UID:e.1923.35902
SEQUENCE:3
DTSTAMP:20260421T062224Z
URL:https://chamber.gokennebunks.com/events/details/father-s-day-at-the-nonantum-35902
END:VEVENT

END:VCALENDAR
