BEGIN:VCALENDAR
VERSION:2.0
PRODID:-//ChamberMaster//Event Calendar 2.0//EN
METHOD:PUBLISH
X-PUBLISHED-TTL:P3D
REFRESH-INTERVAL:P3D
CALSCALE:GREGORIAN
BEGIN:VEVENT
DTSTART:20250215T180000Z
DTEND:20250215T193000Z
X-MICROSOFT-CDO-ALLDAYEVENT:FALSE
SUMMARY:Farthest Star Sake Tasting Class at Rosella
DESCRIPTION:Saturday\, February 15\, 2025   1pm EST\nRaise a glass with us for a flavorful afternoon\, savoring sweet sake sips! Join us as we explore Farthest Star Sake hosted by Todd Bellomy\, curating local\, minimally processed sake from New England. We'll dive into the essentials of perfecting the ideal sake formula\, uncover the intricate process of its creation\, and share the best ways to enjoy this delightful drink. Whether you're a sake enthusiast or a curious beginner\, this event promises to enrich your understanding and elevate your taste experience. Don't miss out on an afternoon of culture\, craftsmanship\, and\, of course\, delicious sake!\n\nEvent includes: \n\n\n	Light bites & snacks \n	Variety of sake tastings from Farthest Star Sake\n\n\nPart of Rosella's programming for February's Paint the Town Red in Kennebunkport!\n\n\n\nPURCHASE TICKETS: https://www.eventbrite.com/e/farthest-star-sake-at-rosella-tickets-1123227657159?aff=oddtdtcreator
X-ALT-DESC;FMTTYPE=text/html:<span style="color:rgb(30\, 10\, 60)\; font-family:neue plak\,-apple-system\,blinkmacsystemfont\,roboto\,helvetica neue\,helvetica\,tahoma\,arial\,sans-serif\; font-size:14px">Saturday\, February 15\, 2025 &middot\; 1pm EST</span>\n<p>Raise a glass with us for a flavorful afternoon\, savoring sweet sake sips! Join us as we explore&nbsp\;<a href="https://www.fartheststarsake.com/" rel="nofollow noopener noreferrer" style="background-color: transparent\; color: var(--eds-control\,#3659e3)\; box-sizing: border-box\; padding-top: 0px\;" target="_blank" title="https://www.fartheststarsake.com/">Farthest Star Sake</a>&nbsp\;hosted by Todd Bellomy\, curating local\, minimally processed sake from New England. We&rsquo\;ll dive into the essentials of perfecting the ideal sake formula\, uncover the intricate process of its creation\, and share the best ways to enjoy this delightful drink. Whether you&#39\;re a sake enthusiast or a curious beginner\, this event promises to enrich your understanding and elevate your taste experience. Don&rsquo\;t miss out on an afternoon of culture\, craftsmanship\, and\, of course\, delicious sake!</p>\n\n<p>Event includes:&nbsp\;</p>\n\n<ul>\n	<li>Light bites &amp\; snacks&nbsp\;</li>\n	<li>Variety of sake tastings from&nbsp\;<a href="https://www.fartheststarsake.com/" rel="nofollow noopener noreferrer" style="background-color: transparent\; color: var(--eds-control\,#3659e3)\; box-sizing: border-box\; padding-top: 0px\;" target="_blank" title="https://www.fartheststarsake.com/">Farthest Star Sake</a></li>\n</ul>\n\n<p>Part of Rosella&#39\;s programming for February&#39\;s&nbsp\;<a href="https://www.kennebunkportresortcollection.com/explore/paint-the-town-red" rel="nofollow noopener noreferrer" style="background-color: transparent\; color: var(--eds-control\,#3659e3)\; box-sizing: border-box\; padding-top: 0px\;" target="_blank" title="https://www.kennebunkportresortcollection.com/explore/paint-the-town-red">Paint the Town Red in Kennebunkport</a>!<br />\n<br />\n<a href="https://www.eventbrite.com/e/farthest-star-sake-at-rosella-tickets-1123227657159?aff=oddtdtcreator">PURCHASE TICKETS:&nbsp\;https://www.eventbrite.com/e/farthest-star-sake-at-rosella-tickets-1123227657159?aff=oddtdtcreator</a></p>\n
LOCATION:Rosella KPT 1 Chase Hill Road Kennebunk\, Maine 04043
UID:e.1923.31462
SEQUENCE:3
DTSTAMP:20260420T230308Z
URL:https://chamber.gokennebunks.com/events/details/farthest-star-sake-tasting-class-at-rosella-31462
END:VEVENT

END:VCALENDAR
