BEGIN:VCALENDAR
VERSION:2.0
PRODID:-//ChamberMaster//Event Calendar 2.0//EN
METHOD:PUBLISH
X-PUBLISHED-TTL:P3D
REFRESH-INTERVAL:P3D
CALSCALE:GREGORIAN
BEGIN:VEVENT
DTSTART:20190920T200000Z
DTEND:20190920T210000Z
X-MICROSOFT-CDO-ALLDAYEVENT:FALSE
SUMMARY:Family Yoga Night
DESCRIPTION:Join us for a special class under the apple trees at McDougal Orchards in Springvale. Just a short 20 minute drive from Kennebunk\, this locale is a Hope and Lathrop family favorite. After class\, pick apples with your little ones\, enjoy donuts\, cider + all the other goodies the orchard has to offer.
X-ALT-DESC;FMTTYPE=text/html:Join us for a special class under the apple trees at McDougal Orchards in Springvale. Just a short 20 minute drive from Kennebunk\, this locale is a Hope and Lathrop family favorite. After class\, pick apples with your little ones\, enjoy donuts\, cider + all the other goodies the orchard has to offer.
LOCATION:McDougal Orchards\, Springvale
UID:e.1923.13419
SEQUENCE:3
DTSTAMP:20260424T154009Z
URL:https://chamber.gokennebunks.com/events/details/family-yoga-night-13419
END:VEVENT

END:VCALENDAR
