BEGIN:VCALENDAR
VERSION:2.0
PRODID:-//ChamberMaster//Event Calendar 2.0//EN
METHOD:PUBLISH
X-PUBLISHED-TTL:P3D
REFRESH-INTERVAL:P3D
CALSCALE:GREGORIAN
BEGIN:VEVENT
DTSTART:20190908T190000Z
DTEND:20190908T200000Z
X-MICROSOFT-CDO-ALLDAYEVENT:FALSE
SUMMARY:Family Yoga Night - Free Kids Yoga
DESCRIPTION:Maine apple Sunday is coming up! Join us for a special class under the apple trees at McDougal Orchards in Springvale. Just a short 20 minute drive from Kennebunk\, this locale is a Hope and Lathrop family favorite. After class\, pick apples with your little ones\, enjoy donuts\, cider + all the other goodies the orchard has to offer.
X-ALT-DESC;FMTTYPE=text/html:<span style="color:rgb(38\, 51\, 51)\; font-family:source sans pro\; font-size:16px">Maine apple Sunday is coming up! Join us for a special class under the apple trees at McDougal Orchards in Springvale. Just a short 20 minute drive from Kennebunk\, this locale is a Hope and Lathrop family favorite. After class\, pick apples with your little ones\, enjoy donuts\, cider + all the other goodies the orchard has to offer.</span>
LOCATION:McDougal Orchards 201 Hanson Ridge Road Springvale\, ME 04083
UID:e.1923.13426
SEQUENCE:3
DTSTAMP:20260424T154249Z
URL:https://chamber.gokennebunks.com/events/details/family-yoga-night-09-08-2019-13426
END:VEVENT

END:VCALENDAR
