BEGIN:VCALENDAR
VERSION:2.0
PRODID:-//ChamberMaster//Event Calendar 2.0//EN
METHOD:PUBLISH
X-PUBLISHED-TTL:P3D
REFRESH-INTERVAL:P3D
CALSCALE:GREGORIAN
BEGIN:VEVENT
DTSTART:20240908T141500Z
DTEND:20240908T150000Z
X-MICROSOFT-CDO-ALLDAYEVENT:FALSE
SUMMARY:family yoga at mcdougal orchard
DESCRIPTION:join us for a special class under the apple trees at McDougal Orchards in Springvale. Just a short 20 minute drive from Kennebunk\, this locale is a Hope and Lathrop family favorite. After class\, pick apples with your little ones\, enjoy donuts\, cider + all the other goodies the orchard has to offer.\n\n\n\n$10/family\, all attendees will be given a 10% discount on their whole picking/purchase.
X-ALT-DESC;FMTTYPE=text/html:<span style="color:rgb(0\, 0\, 0)\; font-family:arial">join us for a special class under the apple trees at McDougal Orchards in Springvale. Just a short 20 minute drive from Kennebunk\, this locale is a Hope and Lathrop family favorite. After class\, pick apples with your little ones\, enjoy donuts\, cider + all the other goodies the orchard has to offer.<br />\n<br />\n$10/family\, all attendees will be given a 10% discount on their whole picking/purchase. </span>
LOCATION:McDougal Orchards 201 Hanson Ridge Rd\, Springvale\, ME 04083
UID:e.1923.29822
SEQUENCE:3
DTSTAMP:20260421T100258Z
URL:https://chamber.gokennebunks.com/events/details/family-yoga-at-mcdougal-orchard-09-08-2024-29822
END:VEVENT

END:VCALENDAR
