BEGIN:VCALENDAR
VERSION:2.0
PRODID:-//ChamberMaster//Event Calendar 2.0//EN
METHOD:PUBLISH
X-PUBLISHED-TTL:P3D
REFRESH-INTERVAL:P3D
CALSCALE:GREGORIAN
BEGIN:VEVENT
DTSTART:20230430T200000Z
DTEND:20230430T204500Z
X-MICROSOFT-CDO-ALLDAYEVENT:FALSE
SUMMARY:Family Worship
DESCRIPTION:A worship service designed particularly for children and families. Stories and music and movement. The most wiggly of children will find reasons for wonder and joy. Adults too may discover something new about the Spirit. Come and bring your neighbors\, grandchildren and friends. This is a great opportunity to allow the young people in your life to experience something of the wonder of spiritual expression.
X-ALT-DESC;FMTTYPE=text/html:A worship service designed particularly for children and families. Stories and music and movement. The most wiggly of children will find reasons for wonder and joy. Adults too may discover something new about the Spirit. Come and bring your neighbors\, grandchildren and friends. This is a great opportunity to allow the young people in your life to experience something of the wonder of spiritual expression.
LOCATION:South Congregational Church 2 North Street Kennebunkport
UID:e.1923.19120
SEQUENCE:3
DTSTAMP:20260424T112551Z
URL:https://chamber.gokennebunks.com/events/details/family-worship-19120
END:VEVENT

END:VCALENDAR
