BEGIN:VCALENDAR
VERSION:2.0
PRODID:-//ChamberMaster//Event Calendar 2.0//EN
METHOD:PUBLISH
X-PUBLISHED-TTL:P3D
REFRESH-INTERVAL:P3D
CALSCALE:GREGORIAN
BEGIN:VEVENT
DTSTART:20180729T140000Z
DTEND:20180729T180000Z
X-MICROSOFT-CDO-ALLDAYEVENT:FALSE
SUMMARY:Family Painting in the Village
DESCRIPTION:Come paint with local artist Dawn Burns outside of her studio in the lower village and leave with your own one of a kind painting. We will be painting outside in the parking lot in front of my studio. There will be a few different designs to pick from and they will be pre-sketched on the canvas. Adults and children of all ages are welcome.
X-ALT-DESC;FMTTYPE=text/html:Come paint with local artist Dawn Burns outside of her studio in the lower village and leave with your own one of a kind painting. We will be painting outside in the parking lot in front of my studio. There will be a few different designs to pick from and they will be pre-sketched on the canvas. Adults and children of all ages are welcome.
LOCATION:Dawn Burns Art Studio 185 Port Rd. Kennebunk
UID:e.1923.9968
SEQUENCE:3
DTSTAMP:20260425T133216Z
URL:https://chamber.gokennebunks.com/events/details/family-painting-in-the-village-9968
END:VEVENT

END:VCALENDAR
