BEGIN:VCALENDAR
VERSION:2.0
PRODID:-//ChamberMaster//Event Calendar 2.0//EN
METHOD:PUBLISH
X-PUBLISHED-TTL:P3D
REFRESH-INTERVAL:P3D
CALSCALE:GREGORIAN
BEGIN:VEVENT
DTSTART:20241205T223000Z
DTEND:20241206T003000Z
X-MICROSOFT-CDO-ALLDAYEVENT:FALSE
SUMMARY:Family Hat Parade Hat Making Workshop
DESCRIPTION:Bring the family\, grab a friend or treat yourself to some festive fun! Decorate and personalize a hat to wear in the infamous Prelude Hat Parade or other holiday gatherings. If you have a hat you'd like to use aside from the provided felt gnome hat\, feel free to bring your own. We'll have the rest of the supplies with which to decorate your hat. \n\nAttendees under 15 years old must be accompanied by an adult.\n\nCost: $45 per person\n\nMax # of attendees: 10
X-ALT-DESC;FMTTYPE=text/html:<span style="font-size:12px"><span style="color:rgb(68\, 68\, 68)\; font-family:helvetica neue\,helvetica\,arial\,sans-serif">Bring the family\, grab a friend or treat yourself to some festive fun! Decorate and personalize a hat to wear in the infamous Prelude Hat Parade or other holiday gatherings. If you have a hat you&rsquo\;d like to use aside from the provided felt gnome hat\, feel free to bring your own. We&rsquo\;ll have the rest of the supplies with which to decorate your hat.&nbsp\;</span><br />\n<strong>Attendees under 15 years old must be accompanied by an adult.</strong><br />\nCost: $45 per person<br />\nMax # of attendees: 10</span>
LOCATION:River Tree Arts 35 Western Ave.\, Kennebunk\, ME 04043
UID:e.1923.31149
SEQUENCE:3
DTSTAMP:20260421T020230Z
URL:https://chamber.gokennebunks.com/events/details/family-hat-parade-hat-making-workshop-31149
END:VEVENT

END:VCALENDAR
