BEGIN:VCALENDAR
VERSION:2.0
PRODID:-//ChamberMaster//Event Calendar 2.0//EN
METHOD:PUBLISH
X-PUBLISHED-TTL:P3D
REFRESH-INTERVAL:P3D
CALSCALE:GREGORIAN
BEGIN:VEVENT
DTSTART:20250215T220000Z
DTEND:20250215T230000Z
X-MICROSOFT-CDO-ALLDAYEVENT:FALSE
SUMMARY:Family & Friends Program Showcase at Mill Studio Arts
DESCRIPTION:The School Around Us is excited to share the results of an innovative STEAM partnership with Mill Studio Arts. This 8 week learning experience will be culminating with a program share out/exhibition of student learning. This partnership integrates science and math with the arts highlighting the importance of each of these disciplines through hands-on activities that cover topics such as: - S (Science) Earth Science\, Space\, fossils - T (Technology) GPS\, satellites\, mapping\, coding - E (Engineering) Lego Robotics\, design\, mapping\, building pro\, innovating - A (Arts) Design in clay\, paint & other art forms\,\, concept design\, creation\, building models\, creating visual representations\, printmaking - M (Math) concepts: place value\, money\, problem-solving\, symmetry\, geometry\, large numbers\, time This initiative is funded by a grant from Onsemi Corporation\, which is dedicated to driving innovations in automotive and industrial markets\, focusing on megatrends like vehicle electrification and sustainable energy.
X-ALT-DESC;FMTTYPE=text/html:The School Around Us is excited to share the results of an innovative STEAM partnership with Mill Studio Arts. This 8 week learning experience will be culminating with a program share out/exhibition of student learning. This partnership integrates science and math with the arts highlighting the importance of each of these disciplines through hands-on activities that cover topics such as: - S (Science) Earth Science\, Space\, fossils - T (Technology) GPS\, satellites\, mapping\, coding - E (Engineering) Lego Robotics\, design\, mapping\, building pro\, innovating - A (Arts) Design in clay\, paint &amp\; other art forms\,\, concept design\, creation\, building models\, creating visual representations\, printmaking - M (Math) concepts: place value\, money\, problem-solving\, symmetry\, geometry\, large numbers\, time This initiative is funded by a grant from Onsemi Corporation\, which is dedicated to driving innovations in automotive and industrial markets\, focusing on megatrends like vehicle electrification and sustainable energy.
LOCATION:Mill Studio Arts Pearl Street Biddeford\, Maine
UID:e.1923.33107
SEQUENCE:3
DTSTAMP:20260421T003605Z
URL:https://chamber.gokennebunks.com/events/details/family-friends-program-showcase-at-mill-studio-arts-33107
END:VEVENT

END:VCALENDAR
